BEGIN:VCALENDAR
VERSION:2.0
PRODID:-//Events | FID-Recht//NONSGML Events//EN
CALSCALE:GREGORIAN
X-ORIGINAL-URL:https://events.intrecht.de/termine/
X-WR-CALDESC:Events | FID-Recht - Events
BEGIN:VEVENT
UID:20230418T0118Z-1681780716.226-EO-12860-1@172.16.200.151
STATUS:CONFIRMED
DTSTAMP:20260425T151212Z
CREATED:20230221T094616Z
LAST-MODIFIED:20230221T094616Z
DTSTART;VALUE=DATE:20230322
DTEND;VALUE=DATE:20230323
SUMMARY: Wasser und Sanitärversorgung – Schlüssel für eine nachhaltige Entw
 icklung (Hybride Veranstaltung mit Liveschaltung nach New York)
DESCRIPTION: 22.3.2023 / Online und Berlin https://dgvn.de/aktivitaeten/ein
 zelansicht/wasser-und-sanitaerversorgung-schluessel-fuer-eine-nachhaltige-e
 ntwicklung  
X-ALT-DESC;FMTTYPE=text/html: <p>22.3.2023 / Online und Berlin</p><p><a hre
 f="https://dgvn.de/aktivitaeten/einzelansicht/wasser-und-sanitaerversorgung
 -schluessel-fuer-eine-nachhaltige-entwicklung">https://dgvn.de/aktivitaeten
 /einzelansicht/wasser-und-sanitaerversorgung-schluessel-fuer-eine-nachhalti
 ge-entwicklung</a></p><p> </p><p>[av_button label='iCal-Export' link='./fee
 d/eo-events' link_target='' size='small' position='center' label_display=''
  title_attr='' icon_select='yes' icon='ue85b' font='entypo-fontello' color=
 'custom' custom_bg='#b5123e' custom_font='#ffffff' av_uid='' id='' custom_c
 lass='' admin_preview_bg='']</p>
CATEGORIES:Recht interdisziplinär
LOCATION:Online
GEO:0.000000;0.000000
ORGANIZER;CN="ViFa-Recht":MAILTO:vifa-recht@sbb.spk-berlin.de
URL;VALUE=URI:https://events.intrecht.de/termine/termin/wasser-und-sanitaer
 versorgung-schluessel-fuer-eine-nachhaltige-entwicklung-hybride-veranstaltu
 ng-mit-liveschaltung-nach-new-york/
END:VEVENT
BEGIN:VTIMEZONE
TZID:Europe/Berlin
BEGIN:STANDARD
TZOFFSETFROM:+0200
TZOFFSETTO:+0100
DTSTART:20221030T010000
TZNAME:CET
END:STANDARD
END:VTIMEZONE
END:VCALENDAR
