BEGIN:VCALENDAR
VERSION:2.0
PRODID:-//Events | FID-Recht//NONSGML Events//EN
CALSCALE:GREGORIAN
X-ORIGINAL-URL:https://events.intrecht.de/termine/
X-WR-CALDESC:Events | FID-Recht - Events
BEGIN:VEVENT
UID:20200602T0945Z-1591091115.9737-EO-599-1@172.16.200.141
STATUS:CONFIRMED
DTSTAMP:20260423T021256Z
CREATED:20260210T120756Z
LAST-MODIFIED:20260210T120756Z
DTSTART;VALUE=DATE:20260324
DTEND;VALUE=DATE:20260327
SUMMARY: Was ist Kritik? (Interdisziplinärer Workshop)
DESCRIPTION: 24.-26.3.2026 / Tübingen https://pretix.eu/tfw/kritik/
X-ALT-DESC;FMTTYPE=text/html: <p>24.-26.3.2026 / Tübingen</p><p><a href="ht
 tps://pretix.eu/tfw/kritik/">https://pretix.eu/tfw/kritik/</a></p><p>[av_bu
 tton label='iCal-Export' link='./feed/eo-events' link_target='' size='small
 ' position='center' label_display='' title_attr='' icon_select='yes' icon='
 ue85b' font='entypo-fontello' color='custom' custom_bg='#b5123e' custom_fon
 t='#ffffff' av_uid='' id='' custom_class='' admin_preview_bg='']</p>
CATEGORIES:Recht interdisziplinär
LOCATION:Inland
GEO:0.000000;0.000000
ORGANIZER;CN="ViFa-Recht":MAILTO:vifa-recht@sbb.spk-berlin.de
URL;VALUE=URI:https://events.intrecht.de/termine/termin/was-ist-kritik-inte
 rdisziplinaerer-workshop/
END:VEVENT
BEGIN:VTIMEZONE
TZID:Europe/Berlin
BEGIN:STANDARD
TZOFFSETFROM:+0200
TZOFFSETTO:+0100
DTSTART:20251026T010000
TZNAME:CET
END:STANDARD
END:VTIMEZONE
END:VCALENDAR
