BEGIN:VCALENDAR
VERSION:2.0
PRODID:-//Events | FID-Recht//NONSGML Events//EN
CALSCALE:GREGORIAN
X-ORIGINAL-URL:https://events.intrecht.de/termine/
X-WR-CALDESC:Events | FID-Recht - Events
BEGIN:VEVENT
UID:20201216T1850Z-1608144631.2335-EO-2600-1@172.16.200.141
STATUS:CONFIRMED
DTSTAMP:20260421T102925Z
CREATED:20201201T175431Z
LAST-MODIFIED:20201201T175431Z
DTSTART;VALUE=DATE:20201201
DTEND;VALUE=DATE:20201201
SUMMARY: Warum moralische Korruption die Hauptbarriere für die Eindämmung d
 er Klimakrise ist (mit Susanne Stoll-Kleemann) (Online-Vortrag)
DESCRIPTION: 1.12.2020\, Online https://www.wiko-greifswald.de/programm/all
 gemeines/veranstaltungskalender/veranstaltung/n/warum-moralische-korruption
 -die-hauptbarriere-fuer-die-eindaemmung-der-klimakrise-ist-73787/  
X-ALT-DESC;FMTTYPE=text/html: <p>1.12.2020\, Online</p><p><a href="https://
 www.wiko-greifswald.de/programm/allgemeines/veranstaltungskalender/veransta
 ltung/n/warum-moralische-korruption-die-hauptbarriere-fuer-die-eindaemmung-
 der-klimakrise-ist-73787/">https://www.wiko-greifswald.de/programm/allgemei
 nes/veranstaltungskalender/veranstaltung/n/warum-moralische-korruption-die-
 hauptbarriere-fuer-die-eindaemmung-der-klimakrise-ist-73787/</a></p><p> </p
 ><p>[av_button label='iCal-Export' link='./feed/eo-events' link_target='' s
 ize='small' position='center' label_display='' title_attr='' icon_select='y
 es' icon='ue85b' font='entypo-fontello' color='custom' custom_bg='#b5123e' 
 custom_font='#ffffff' av_uid='' id='' custom_class='' admin_preview_bg='']<
 /p>
CATEGORIES:Recht interdisziplinär
LOCATION:Online
GEO:0.000000;0.000000
ORGANIZER;CN="ViFa-Recht":MAILTO:vifa-recht@sbb.spk-berlin.de
URL;VALUE=URI:https://events.intrecht.de/termine/termin/warum-moralische-ko
 rruption-die-hauptbarriere-fuer-die-eindaemmung-der-klimakrise-ist-mit-susa
 nne-stoll-kleemann-online-vortrag/
END:VEVENT
BEGIN:VTIMEZONE
TZID:Europe/Berlin
BEGIN:STANDARD
TZOFFSETFROM:+0200
TZOFFSETTO:+0100
DTSTART:20201025T010000
TZNAME:CET
END:STANDARD
END:VTIMEZONE
END:VCALENDAR
