BEGIN:VCALENDAR
VERSION:2.0
PRODID:-//Events | FID-Recht//NONSGML Events//EN
CALSCALE:GREGORIAN
X-ORIGINAL-URL:https://events.intrecht.de/termine/
X-WR-CALDESC:Events | FID-Recht - Events
BEGIN:VEVENT
UID:20200603T1418Z-1591193923.3362-EO-587-1@172.16.200.141
STATUS:CONFIRMED
DTSTAMP:20260421T182940Z
CREATED:20240919T092200Z
LAST-MODIFIED:20240919T092200Z
DTSTART;VALUE=DATE:20240926
DTEND;VALUE=DATE:20240927
SUMMARY: War and Lawmaking: Recent Legal Developments in Israel (Foreign an
 d Comparative Law Webinar Series)
DESCRIPTION: 26.9.2024 / Online https://loc.zoomgov.com/webinar/register/WN
 _1_FtslAoSDiw9WuIhvtLdg#/registration
X-ALT-DESC;FMTTYPE=text/html: <p>26.9.2024 / Online</p><p><a href="https://
 loc.zoomgov.com/webinar/register/WN_1_FtslAoSDiw9WuIhvtLdg#/registration">h
 ttps://loc.zoomgov.com/webinar/register/WN_1_FtslAoSDiw9WuIhvtLdg#/registra
 tion</a></p><p>[av_button label='iCal-Export' link='./feed/eo-events' link_
 target='' size='small' position='center' label_display='' title_attr='' ico
 n_select='yes' icon='ue85b' font='entypo-fontello' color='custom' custom_bg
 ='#b5123e' custom_font='#ffffff' av_uid='' id='' custom_class='' admin_prev
 iew_bg='']</p>
CATEGORIES:Europäisches / Internationales Recht
LOCATION:Online
GEO:0.000000;0.000000
ORGANIZER;CN="ViFa-Recht":MAILTO:vifa-recht@sbb.spk-berlin.de
URL;VALUE=URI:https://events.intrecht.de/termine/termin/war-and-lawmaking-r
 ecent-legal-developments-in-israel-foreign-and-comparative-law-webinar-seri
 es/
END:VEVENT
BEGIN:VTIMEZONE
TZID:Europe/Berlin
BEGIN:DAYLIGHT
TZOFFSETFROM:+0100
TZOFFSETTO:+0200
DTSTART:20240331T010000
TZNAME:CEST
END:DAYLIGHT
END:VTIMEZONE
END:VCALENDAR
