BEGIN:VCALENDAR
VERSION:2.0
PRODID:-//Events | FID-Recht//NONSGML Events//EN
CALSCALE:GREGORIAN
X-ORIGINAL-URL:https://events.intrecht.de/termine/
X-WR-CALDESC:Events | FID-Recht - Events
BEGIN:VEVENT
UID:20200603T1418Z-1591193923.3362-EO-587-1@172.16.200.141
STATUS:CONFIRMED
DTSTAMP:20260425T182947Z
CREATED:20231021T150654Z
LAST-MODIFIED:20231021T150654Z
DTSTART;VALUE=DATE:20231017
DTEND;VALUE=DATE:20231018
SUMMARY: Walking a Tight Rope: The ICJ Advisory Opinion on Climate Change a
 nd Future Generations (Hybrid-Event)
DESCRIPTION: 17.10.2023 / Online und Heidelberg https://law.mpg.de/event/wa
 lking-a-tight-rope-the-icj-advisory-opinion-on-climate-change-and-future-ge
 nerations/
X-ALT-DESC;FMTTYPE=text/html: <p>17.10.2023 / Online und Heidelberg</p><p><
 a href="https://law.mpg.de/event/walking-a-tight-rope-the-icj-advisory-opin
 ion-on-climate-change-and-future-generations/">https://law.mpg.de/event/wal
 king-a-tight-rope-the-icj-advisory-opinion-on-climate-change-and-future-gen
 erations/</a></p><p>[av_button label='iCal-Export' link='./feed/eo-events' 
 link_target='' size='small' position='center' label_display='' title_attr='
 ' icon_select='yes' icon='ue85b' font='entypo-fontello' color='custom' cust
 om_bg='#b5123e' custom_font='#ffffff' av_uid='' id='' custom_class='' admin
 _preview_bg='']</p>
CATEGORIES:Europäisches / Internationales Recht
LOCATION:Online
GEO:0.000000;0.000000
ORGANIZER;CN="ViFa-Recht":MAILTO:vifa-recht@sbb.spk-berlin.de
URL;VALUE=URI:https://events.intrecht.de/termine/termin/walking-a-tight-rop
 e-the-icj-advisory-opinion-on-climate-change-and-future-generations-hybrid-
 event/
END:VEVENT
BEGIN:VTIMEZONE
TZID:Europe/Berlin
BEGIN:DAYLIGHT
TZOFFSETFROM:+0100
TZOFFSETTO:+0200
DTSTART:20230326T010000
TZNAME:CEST
END:DAYLIGHT
END:VTIMEZONE
END:VCALENDAR
