BEGIN:VCALENDAR
VERSION:2.0
PRODID:-//Events | FID-Recht//NONSGML Events//EN
CALSCALE:GREGORIAN
X-ORIGINAL-URL:https://events.intrecht.de/termine/
X-WR-CALDESC:Events | FID-Recht - Events
BEGIN:VEVENT
UID:20200603T1418Z-1591193923.3362-EO-587-1@172.16.200.141
STATUS:CONFIRMED
DTSTAMP:20260425T174812Z
CREATED:20230320T101216Z
LAST-MODIFIED:20230320T101216Z
DTSTART;VALUE=DATE:20230706
DTEND;VALUE=DATE:20230708
SUMMARY: VSR Annual Conference 2023
DESCRIPTION: 6.-7.7.2023 / Amsterdam (Frist für Einreichungen: 1.5.2023) ht
 tps://www.eventbrite.com/e/vsr-annual-conference-2023-amsterdam-tickets-464
 242119677
X-ALT-DESC;FMTTYPE=text/html: <p>6.-7.7.2023 / Amsterdam <strong>(Frist für
  Einreichungen: 1.5.2023)</strong></p><p><a href="https://www.eventbrite.co
 m/e/vsr-annual-conference-2023-amsterdam-tickets-464242119677">https://www.
 eventbrite.com/e/vsr-annual-conference-2023-amsterdam-tickets-464242119677<
 /a></p><p>[av_button label='iCal-Export' link='./feed/eo-events' link_targe
 t='' size='small' position='center' label_display='' title_attr='' icon_sel
 ect='yes' icon='ue85b' font='entypo-fontello' color='custom' custom_bg='#b5
 123e' custom_font='#ffffff' av_uid='' id='' custom_class='' admin_preview_b
 g='']</p>
CATEGORIES:Recht interdisziplinär
LOCATION:Ausland
GEO:0.000000;0.000000
ORGANIZER;CN="ViFa-Recht":MAILTO:vifa-recht@sbb.spk-berlin.de
URL;VALUE=URI:https://events.intrecht.de/termine/termin/vsr-annual-conferen
 ce-2023/
END:VEVENT
BEGIN:VTIMEZONE
TZID:Europe/Berlin
BEGIN:DAYLIGHT
TZOFFSETFROM:+0100
TZOFFSETTO:+0200
DTSTART:20230326T010000
TZNAME:CEST
END:DAYLIGHT
END:VTIMEZONE
END:VCALENDAR
