BEGIN:VCALENDAR
VERSION:2.0
PRODID:-//Events | FID-Recht//NONSGML Events//EN
CALSCALE:GREGORIAN
X-ORIGINAL-URL:https://events.intrecht.de/termine/
X-WR-CALDESC:Events | FID-Recht - Events
BEGIN:VEVENT
UID:20211104T1247Z-1636030034.1455-EO-4466-1@172.16.200.141
STATUS:CONFIRMED
DTSTAMP:20260421T102400Z
CREATED:20211102T154630Z
LAST-MODIFIED:20211102T154630Z
DTSTART;TZID=Europe/Berlin:20211114T200000
DTEND;TZID=Europe/Berlin:20211114T220000
SUMMARY: Vortrag: What Does Printing a Constitution Do? (with Linda Colley)
DESCRIPTION: 14.11.2021\, Berlin https://www.wiko-berlin.de/veranstaltungen
 /veranstaltungskalender/2021-11-14-what-does-printing-a-constitution-do  
X-ALT-DESC;FMTTYPE=text/html: <p>14.11.2021\, Berlin</p><p><a href="https:/
 /www.wiko-berlin.de/veranstaltungen/veranstaltungskalender/2021-11-14-what-
 does-printing-a-constitution-do">https://www.wiko-berlin.de/veranstaltungen
 /veranstaltungskalender/2021-11-14-what-does-printing-a-constitution-do</a>
 </p><p> </p><p>[av_button label='iCal-Export' link='./feed/eo-events' link_
 target='' size='small' position='center' label_display='' title_attr='' ico
 n_select='yes' icon='ue85b' font='entypo-fontello' color='custom' custom_bg
 ='#b5123e' custom_font='#ffffff' av_uid='' id='' custom_class='' admin_prev
 iew_bg='']</p>
CATEGORIES:Öffentliches Recht,Recht interdisziplinär
LOCATION:Inland
GEO:0.000000;0.000000
ORGANIZER;CN="ViFa-Recht":MAILTO:vifa-recht@sbb.spk-berlin.de
URL;VALUE=URI:https://events.intrecht.de/termine/termin/vortrag-what-does-p
 rinting-a-constitution-do-with-linda-colley/
END:VEVENT
BEGIN:VTIMEZONE
TZID:Europe/Berlin
BEGIN:STANDARD
TZOFFSETFROM:+0200
TZOFFSETTO:+0100
DTSTART:20211031T010000
TZNAME:CET
END:STANDARD
END:VTIMEZONE
END:VCALENDAR
