BEGIN:VCALENDAR
VERSION:2.0
PRODID:-//Events | FID-Recht//NONSGML Events//EN
CALSCALE:GREGORIAN
X-ORIGINAL-URL:https://events.intrecht.de/termine/
X-WR-CALDESC:Events | FID-Recht - Events
BEGIN:VEVENT
UID:20221128T0346Z-1669607163.8333-EO-7580-1@172.16.200.151
STATUS:CONFIRMED
DTSTAMP:20260421T133515Z
CREATED:20221124T142612Z
LAST-MODIFIED:20221124T142612Z
DTSTART;VALUE=DATE:20221205
DTEND;VALUE=DATE:20221206
SUMMARY: Vortrag im Rahmen der Humboldt Comparative and European Law Lectur
 es (HUCELL): „Le pacte fédératif“
DESCRIPTION: 5.12.2022 / Berlin https://www.rewi.hu-berlin.de/de/lf/oe/rhp/
 veranstaltungen/hucell/hucell-prof-olivier-beaud-am-5-dezember-2022  
X-ALT-DESC;FMTTYPE=text/html: <p>5.12.2022 / Berlin</p><p><a href="https://
 www.rewi.hu-berlin.de/de/lf/oe/rhp/veranstaltungen/hucell/hucell-prof-olivi
 er-beaud-am-5-dezember-2022">https://www.rewi.hu-berlin.de/de/lf/oe/rhp/ver
 anstaltungen/hucell/hucell-prof-olivier-beaud-am-5-dezember-2022</a></p><p>
  </p><p>[av_button label='iCal-Export' link='./feed/eo-events' link_target=
 '' size='small' position='center' label_display='' title_attr='' icon_selec
 t='yes' icon='ue85b' font='entypo-fontello' color='custom' custom_bg='#b512
 3e' custom_font='#ffffff' av_uid='' id='' custom_class='' admin_preview_bg=
 '']</p>
CATEGORIES:Europäisches / Internationales Recht
LOCATION:Inland
GEO:0.000000;0.000000
ORGANIZER;CN="ViFa-Recht":MAILTO:vifa-recht@sbb.spk-berlin.de
URL;VALUE=URI:https://events.intrecht.de/termine/termin/vortrag-im-rahmen-d
 er-humboldt-comparative-and-european-law-lectures-hucell-le-pacte-federatif
 /
END:VEVENT
BEGIN:VTIMEZONE
TZID:Europe/Berlin
BEGIN:STANDARD
TZOFFSETFROM:+0200
TZOFFSETTO:+0100
DTSTART:20221030T010000
TZNAME:CET
END:STANDARD
END:VTIMEZONE
END:VCALENDAR
