BEGIN:VCALENDAR
VERSION:2.0
PRODID:-//Events | FID-Recht//NONSGML Events//EN
CALSCALE:GREGORIAN
X-ORIGINAL-URL:https://events.intrecht.de/termine/
X-WR-CALDESC:Events | FID-Recht - Events
BEGIN:VEVENT
UID:20220908T1840Z-1662662434.4886-EO-5365-1@172.16.200.151
STATUS:CONFIRMED
DTSTAMP:20260426T052637Z
CREATED:20220907T095316Z
LAST-MODIFIED:20220907T095351Z
DTSTART;VALUE=DATE:20220912
DTEND;VALUE=DATE:20220913
SUMMARY: Das Ende der Ära der Zeitzeugen? Das Fortunoff Archive als lebendi
 ges Gedächtnis und Brücke in die Vergangenheit (Vortrag)
DESCRIPTION: 12.9.2022/Online via Zoom https://www.fritz-bauer-institut.de/
 en/veranstaltungen/veranstaltung/das-ende-der-aera-der-zeitzeugen
X-ALT-DESC;FMTTYPE=text/html: <p>12.9.2022/Online via Zoom</p><p><a href="h
 ttps://www.fritz-bauer-institut.de/en/veranstaltungen/veranstaltung/das-end
 e-der-aera-der-zeitzeugen">https://www.fritz-bauer-institut.de/en/veranstal
 tungen/veranstaltung/das-ende-der-aera-der-zeitzeugen</a></p><p>[av_button 
 label='iCal-Export' link='./feed/eo-events' link_target='' size='small' pos
 ition='center' label_display='' title_attr='' icon_select='yes' icon='ue85b
 ' font='entypo-fontello' color='custom' custom_bg='#b5123e' custom_font='#f
 fffff' av_uid='' id='' custom_class='' admin_preview_bg='']</p>
CATEGORIES:Recht interdisziplinär
LOCATION:Inland
GEO:0.000000;0.000000
ORGANIZER;CN="ViFa-Recht":MAILTO:vifa-recht@sbb.spk-berlin.de
URL;VALUE=URI:https://events.intrecht.de/termine/termin/vortrag-das-ende-de
 r-aera-der-zeitzeugen-das-fortunoff-archive-als-lebendiges-gedaechtnis-und-
 bruecke-in-die-vergangenheit/
END:VEVENT
BEGIN:VTIMEZONE
TZID:Europe/Berlin
BEGIN:DAYLIGHT
TZOFFSETFROM:+0100
TZOFFSETTO:+0200
DTSTART:20220327T010000
TZNAME:CEST
END:DAYLIGHT
END:VTIMEZONE
END:VCALENDAR
