BEGIN:VCALENDAR
VERSION:2.0
PRODID:-//Events | FID-Recht//NONSGML Events//EN
CALSCALE:GREGORIAN
X-ORIGINAL-URL:https://events.intrecht.de/termine/
X-WR-CALDESC:Events | FID-Recht - Events
BEGIN:VEVENT
UID:20200603T1418Z-1591193923.3362-EO-587-1@172.16.200.141
STATUS:CONFIRMED
DTSTAMP:20260425T235733Z
CREATED:20240325T110953Z
LAST-MODIFIED:20240325T110953Z
DTSTART;VALUE=DATE:20241001
DTEND;VALUE=DATE:20241003
SUMMARY: Von Open Access zu Open Science: Das transformative Potenzial der 
 Digitalisierung für eine Öffnung der Rechtswissenschaft und das Urheberrech
 t (5. jurOA-Tagung)
DESCRIPTION: 1.-2.10.2024 / Berlin (Einreichungsfrist: 30.4.2024) https://j
 uroa.de/2024/Call.pdf
X-ALT-DESC;FMTTYPE=text/html: <p>1.-2.10.2024 / Berlin <strong>(Einreichung
 sfrist: 30.4.2024)</strong></p><p><a href="https://juroa.de/2024/Call.pdf">
 https://juroa.de/2024/Call.pdf</a></p><p>[av_button label='iCal-Export' lin
 k='./feed/eo-events' link_target='' size='small' position='center' label_di
 splay='' title_attr='' icon_select='yes' icon='ue85b' font='entypo-fontello
 ' color='custom' custom_bg='#b5123e' custom_font='#ffffff' av_uid='' id='' 
 custom_class='' admin_preview_bg='']</p>
CATEGORIES:Recht interdisziplinär
LOCATION:Inland
GEO:0.000000;0.000000
ORGANIZER;CN="ViFa-Recht":MAILTO:vifa-recht@sbb.spk-berlin.de
URL;VALUE=URI:https://events.intrecht.de/termine/termin/von-open-access-zu-
 open-science-das-transformative-potenzial-der-digitalisierung-fuer-eine-oef
 fnung-der-rechtswissenschaft-und-das-urheberrecht-5-juroa-tagung/
END:VEVENT
BEGIN:VTIMEZONE
TZID:Europe/Berlin
BEGIN:DAYLIGHT
TZOFFSETFROM:+0100
TZOFFSETTO:+0200
DTSTART:20240331T010000
TZNAME:CEST
END:DAYLIGHT
END:VTIMEZONE
END:VCALENDAR
