BEGIN:VCALENDAR
VERSION:2.0
PRODID:-//Events | FID-Recht//NONSGML Events//EN
CALSCALE:GREGORIAN
X-ORIGINAL-URL:https://events.intrecht.de/termine/
X-WR-CALDESC:Events | FID-Recht - Events
BEGIN:VEVENT
UID:20200603T1418Z-1591193923.3362-EO-587-1@172.16.200.141
STATUS:CONFIRMED
DTSTAMP:20260425T183114Z
CREATED:20230330T093401Z
LAST-MODIFIED:20230330T093401Z
DTSTART;VALUE=DATE:20230511
DTEND;VALUE=DATE:20230512
SUMMARY: Von der Kunstfreiheit gedeckt? Aktuelle Herausforderungen im Umgan
 g mit Antisemitismus in Kunst und Kultur (Konferenz)
DESCRIPTION: 11.5.2023 / Berlin https://www.ghwk.de/de/termine/termin/von-d
 er-kunstfreiheit-gedeckt
X-ALT-DESC;FMTTYPE=text/html: <p>11.5.2023 / Berlin</p><p><a href="https://
 www.ghwk.de/de/termine/termin/von-der-kunstfreiheit-gedeckt">https://www.gh
 wk.de/de/termine/termin/von-der-kunstfreiheit-gedeckt</a></p><p>[av_button 
 label='iCal-Export' link='./feed/eo-events' link_target='' size='small' pos
 ition='center' label_display='' title_attr='' icon_select='yes' icon='ue85b
 ' font='entypo-fontello' color='custom' custom_bg='#b5123e' custom_font='#f
 fffff' av_uid='' id='' custom_class='' admin_preview_bg='']</p>
CATEGORIES:Recht interdisziplinär
LOCATION:Inland
GEO:0.000000;0.000000
ORGANIZER;CN="ViFa-Recht":MAILTO:vifa-recht@sbb.spk-berlin.de
URL;VALUE=URI:https://events.intrecht.de/termine/termin/von-der-kunstfreihe
 it-gedeckt-aktuelle-herausforderungen-im-umgang-mit-antisemitismus-in-kunst
 -und-kultur-konferenz/
END:VEVENT
BEGIN:VTIMEZONE
TZID:Europe/Berlin
BEGIN:DAYLIGHT
TZOFFSETFROM:+0100
TZOFFSETTO:+0200
DTSTART:20230326T010000
TZNAME:CEST
END:DAYLIGHT
END:VTIMEZONE
END:VCALENDAR
