BEGIN:VCALENDAR
VERSION:2.0
PRODID:-//Events | FID-Recht//NONSGML Events//EN
CALSCALE:GREGORIAN
X-ORIGINAL-URL:https://events.intrecht.de/termine/
X-WR-CALDESC:Events | FID-Recht - Events
BEGIN:VEVENT
UID:20210124T1308Z-1611493687.7831-EO-2273-1@172.16.200.141
STATUS:CONFIRMED
DTSTAMP:20260421T133515Z
CREATED:20210126T122832Z
LAST-MODIFIED:20210126T122832Z
DTSTART;VALUE=DATE:20210125
DTEND;VALUE=DATE:20210125
SUMMARY: Völkerrechtslunch – Your Career in International Law (mit Andreas 
 Zimmermann) (Online-Diskussion)
DESCRIPTION: 25.1.2021\, Online https://voelkerrechtsblog.org/events/volker
 rechtslunch/  
X-ALT-DESC;FMTTYPE=text/html: <p>25.1.2021\, Online</p><p><a href="https://
 voelkerrechtsblog.org/events/volkerrechtslunch/">https://voelkerrechtsblog.
 org/events/volkerrechtslunch/</a></p><p> </p><p>[av_button label='iCal-Expo
 rt' link='./feed/eo-events' link_target='' size='small' position='center' l
 abel_display='' title_attr='' icon_select='yes' icon='ue85b' font='entypo-f
 ontello' color='custom' custom_bg='#b5123e' custom_font='#ffffff' av_uid=''
  id='' custom_class='' admin_preview_bg='']</p>
CATEGORIES:Europäisches / Internationales Recht
LOCATION:Online
GEO:0.000000;0.000000
ORGANIZER;CN="ViFa-Recht":MAILTO:vifa-recht@sbb.spk-berlin.de
URL;VALUE=URI:https://events.intrecht.de/termine/termin/voelkerrechtslunch-
 your-career-in-international-law-mit-andreas-zimmermann-online-diskussion/
END:VEVENT
BEGIN:VTIMEZONE
TZID:Europe/Berlin
BEGIN:STANDARD
TZOFFSETFROM:+0200
TZOFFSETTO:+0100
DTSTART:20201025T010000
TZNAME:CET
END:STANDARD
END:VTIMEZONE
END:VCALENDAR
