BEGIN:VCALENDAR
VERSION:2.0
PRODID:-//Events | FID-Recht//NONSGML Events//EN
CALSCALE:GREGORIAN
X-ORIGINAL-URL:https://events.intrecht.de/termine/
X-WR-CALDESC:Events | FID-Recht - Events
BEGIN:VEVENT
UID:20220311T1616Z-1647015392.4678-EO-6279-1@172.16.200.141
STATUS:CONFIRMED
DTSTAMP:20260421T133528Z
CREATED:20220307T114607Z
LAST-MODIFIED:20220307T114607Z
DTSTART;TZID=Europe/Berlin:20220307T180000
DTEND;TZID=Europe/Berlin:20220307T193000
SUMMARY: Völkerrechtliche Fragen zum Krieg in der Ukraine (mit Andreas von 
 Arnauld\, Kerstin von der Decken und Nele Matz-Lück) (Online-Vortrag)
DESCRIPTION: 7.3.2022\, 18-19.30 Uhr\, Online Zugangsdaten erhältlich nach 
 Anmeldung unter: tagesthemen@wsi.uni-kiel.de  
X-ALT-DESC;FMTTYPE=text/html: <p>7.3.2022\, 18-19.30 Uhr\, Online</p><p>Zug
 angsdaten erhältlich nach Anmeldung unter: <a href="mailto:tagesthemen@wsi.
 uni-kiel.de">tagesthemen@wsi.uni-kiel.de</a></p><p> </p><p>[av_button label
 ='iCal-Export' link='./feed/eo-events' link_target='' size='small' position
 ='center' label_display='' title_attr='' icon_select='yes' icon='ue85b' fon
 t='entypo-fontello' color='custom' custom_bg='#b5123e' custom_font='#ffffff
 ' av_uid='' id='' custom_class='' admin_preview_bg='']</p>
CATEGORIES:Europäisches / Internationales Recht
LOCATION:Online
GEO:0.000000;0.000000
ORGANIZER;CN="ViFa-Recht":MAILTO:vifa-recht@sbb.spk-berlin.de
URL;VALUE=URI:https://events.intrecht.de/termine/termin/voelkerrechtliche-f
 ragen-zum-krieg-in-der-ukraine-mit-andreas-von-arnauld-kerstin-von-der-deck
 en-und-nele-matz-lueck-online-vortrag/
END:VEVENT
BEGIN:VTIMEZONE
TZID:Europe/Berlin
BEGIN:STANDARD
TZOFFSETFROM:+0200
TZOFFSETTO:+0100
DTSTART:20211031T010000
TZNAME:CET
END:STANDARD
END:VTIMEZONE
END:VCALENDAR
