BEGIN:VCALENDAR
VERSION:2.0
PRODID:-//Events | FID-Recht//NONSGML Events//EN
CALSCALE:GREGORIAN
X-ORIGINAL-URL:https://events.intrecht.de/termine/
X-WR-CALDESC:Events | FID-Recht - Events
BEGIN:VEVENT
UID:20230211T0218Z-1676081893.7558-EO-8006-1@172.16.200.151
STATUS:CONFIRMED
DTSTAMP:20260421T234817Z
CREATED:20230116T103941Z
LAST-MODIFIED:20230116T103941Z
DTSTART;VALUE=DATE:20230118
DTEND;VALUE=DATE:20230119
SUMMARY: Völkerrecht in der Praxis im Auswärtigen Amt: Diplomatie als Beruf
  (Vortrag)
DESCRIPTION: 18.1.2023 / Kiel https://www.wsi.uni-kiel.de/de/veranstaltunge
 n/voelkerrechtliche-tagesthemen/voelkerrecht-in-der-praxis-im-auswaertigen-
 amt-diplomatie-als-beruf-mit-wiebke-rueckert  
X-ALT-DESC;FMTTYPE=text/html: <p>18.1.2023 / Kiel</p><p><a href="https://ww
 w.wsi.uni-kiel.de/de/veranstaltungen/voelkerrechtliche-tagesthemen/voelkerr
 echt-in-der-praxis-im-auswaertigen-amt-diplomatie-als-beruf-mit-wiebke-ruec
 kert">https://www.wsi.uni-kiel.de/de/veranstaltungen/voelkerrechtliche-tage
 sthemen/voelkerrecht-in-der-praxis-im-auswaertigen-amt-diplomatie-als-beruf
 -mit-wiebke-rueckert</a></p><p> </p><p>[av_button label='iCal-Export' link=
 './feed/eo-events' link_target='' size='small' position='center' label_disp
 lay='' title_attr='' icon_select='yes' icon='ue85b' font='entypo-fontello' 
 color='custom' custom_bg='#b5123e' custom_font='#ffffff' av_uid='' id='' cu
 stom_class='' admin_preview_bg='']</p>
CATEGORIES:Europäisches / Internationales Recht
LOCATION:Inland
GEO:0.000000;0.000000
ORGANIZER;CN="ViFa-Recht":MAILTO:vifa-recht@sbb.spk-berlin.de
URL;VALUE=URI:https://events.intrecht.de/termine/termin/voelkerrecht-in-der
 -praxis-im-auswaertigen-amt-diplomatie-als-beruf-vortrag/
END:VEVENT
BEGIN:VTIMEZONE
TZID:Europe/Berlin
BEGIN:STANDARD
TZOFFSETFROM:+0200
TZOFFSETTO:+0100
DTSTART:20221030T010000
TZNAME:CET
END:STANDARD
END:VTIMEZONE
END:VCALENDAR
