BEGIN:VCALENDAR
VERSION:2.0
PRODID:-//Events | FID-Recht//NONSGML Events//EN
CALSCALE:GREGORIAN
X-ORIGINAL-URL:https://events.intrecht.de/termine/
X-WR-CALDESC:Events | FID-Recht - Events
BEGIN:VEVENT
UID:20220611T0354Z-1654919661.2078-EO-4082-1@172.16.200.151
STATUS:CONFIRMED
DTSTAMP:20260426T005700Z
CREATED:20220609T175315Z
LAST-MODIFIED:20220609T175315Z
DTSTART;VALUE=DATE:20220623
DTEND;VALUE=DATE:20220623
SUMMARY: Visual Legal Iconography (Online-Vortragsserie)
DESCRIPTION: 23.6.2022\, Online Law\, History and Visual Culture Seminar | 
 Max Planck Institute for Legal History and Legal Theory (mpg.de)  
X-ALT-DESC;FMTTYPE=text/html: <p>23.6.2022\, Online</p><p><a href="https://
 www.lhlt.mpg.de/events/31209/2078412">Law\, History and Visual Culture Semi
 nar | Max Planck Institute for Legal History and Legal Theory (mpg.de)</a><
 /p><p> </p><p>[av_button label='iCal-Export' link='./feed/eo-events' link_t
 arget='' size='small' position='center' label_display='' title_attr='' icon
 _select='yes' icon='ue85b' font='entypo-fontello' color='custom' custom_bg=
 '#b5123e' custom_font='#ffffff' av_uid='' id='' custom_class='' admin_previ
 ew_bg='']</p>
CATEGORIES:Recht interdisziplinär
ORGANIZER;CN="ViFa-Recht":MAILTO:vifa-recht@sbb.spk-berlin.de
URL;VALUE=URI:https://events.intrecht.de/termine/termin/visual-legal-iconog
 raphy-online-vortragsserie/
END:VEVENT
BEGIN:VTIMEZONE
TZID:Europe/Berlin
BEGIN:DAYLIGHT
TZOFFSETFROM:+0100
TZOFFSETTO:+0200
DTSTART:20220327T010000
TZNAME:CEST
END:DAYLIGHT
END:VTIMEZONE
END:VCALENDAR
