BEGIN:VCALENDAR
VERSION:2.0
PRODID:-//Events | FID-Recht//NONSGML Events//EN
CALSCALE:GREGORIAN
X-ORIGINAL-URL:https://events.intrecht.de/termine/
X-WR-CALDESC:Events | FID-Recht - Events
BEGIN:VEVENT
UID:20200603T1418Z-1591193923.3362-EO-587-1@172.16.200.141
STATUS:CONFIRMED
DTSTAMP:20260425T132612Z
CREATED:20230320T094656Z
LAST-MODIFIED:20230320T094656Z
DTSTART;VALUE=DATE:20230404
DTEND;VALUE=DATE:20230405
SUMMARY: Virtueller Workshop aus der Veranstaltungsreihe „Aktuelle Forschun
 g im Internationalen Privatrecht“: Europäisches Gerichtsverfassungsrecht in
  Zivil- und Handelssachen – ein Werkstattbericht
DESCRIPTION: 4.4.2023 / Online https://events.mpipriv.de/IPR_Wolfgang_Hau_4
 -4-23
X-ALT-DESC;FMTTYPE=text/html: <p>4.4.2023 / Online</p><p><a href="https://e
 vents.mpipriv.de/IPR_Wolfgang_Hau_4-4-23">https://events.mpipriv.de/IPR_Wol
 fgang_Hau_4-4-23</a></p><p>[av_button label='iCal-Export' link='./feed/eo-e
 vents' link_target='' size='small' position='center' label_display='' title
 _attr='' icon_select='yes' icon='ue85b' font='entypo-fontello' color='custo
 m' custom_bg='#b5123e' custom_font='#ffffff' av_uid='' id='' custom_class='
 ' admin_preview_bg='']</p>
CATEGORIES:Zivilrecht
LOCATION:Online
GEO:0.000000;0.000000
ORGANIZER;CN="ViFa-Recht":MAILTO:vifa-recht@sbb.spk-berlin.de
URL;VALUE=URI:https://events.intrecht.de/termine/termin/virtueller-workshop
 -aus-der-veranstaltungsreihe-aktuelle-forschung-im-internationalen-privatre
 cht-europaeisches-gerichtsverfassungsrecht-in-zivil-und-handelssachen-ein-w
 e/
END:VEVENT
BEGIN:VTIMEZONE
TZID:Europe/Berlin
BEGIN:DAYLIGHT
TZOFFSETFROM:+0100
TZOFFSETTO:+0200
DTSTART:20230326T010000
TZNAME:CEST
END:DAYLIGHT
END:VTIMEZONE
END:VCALENDAR
