BEGIN:VCALENDAR
VERSION:2.0
PRODID:-//Events | FID-Recht//NONSGML Events//EN
CALSCALE:GREGORIAN
X-ORIGINAL-URL:https://events.intrecht.de/termine/
X-WR-CALDESC:Events | FID-Recht - Events
BEGIN:VEVENT
UID:20230418T0117Z-1681780624.0067-EO-12796-1@172.16.200.151
STATUS:CONFIRMED
DTSTAMP:20260425T151214Z
CREATED:20230215T163337Z
LAST-MODIFIED:20230215T163337Z
DTSTART;VALUE=DATE:20230307
DTEND;VALUE=DATE:20230308
SUMMARY: Virtual workshop series “Current Research in Private International
  Law“: Investment Arbitration – Lost in the Bermuda Triangle of EU Law\, Pu
 blic International Law and Private International Law?
DESCRIPTION: 7.3.2023 / Online https://events.mpipriv.de/virtual-workshop-w
 ith-dario-moura-vicente  
X-ALT-DESC;FMTTYPE=text/html: <p>7.3.2023 / Online</p><p><a href="https://e
 vents.mpipriv.de/virtual-workshop-with-dario-moura-vicente">https://events.
 mpipriv.de/virtual-workshop-with-dario-moura-vicente</a></p><p> </p><p>[av_
 button label='iCal-Export' link='./feed/eo-events' link_target='' size='sma
 ll' position='center' label_display='' title_attr='' icon_select='yes' icon
 ='ue85b' font='entypo-fontello' color='custom' custom_bg='#b5123e' custom_f
 ont='#ffffff' av_uid='' id='' custom_class='' admin_preview_bg='']</p>
CATEGORIES:Europäisches / Internationales Recht
LOCATION:Online
GEO:0.000000;0.000000
ORGANIZER;CN="ViFa-Recht":MAILTO:vifa-recht@sbb.spk-berlin.de
URL;VALUE=URI:https://events.intrecht.de/termine/termin/virtual-workshop-se
 ries-current-research-in-private-international-law-investment-arbitration-l
 ost-in-the-bermuda-triangle-of-eu-law-public-international-law-and-private-
 internat/
END:VEVENT
BEGIN:VTIMEZONE
TZID:Europe/Berlin
BEGIN:STANDARD
TZOFFSETFROM:+0200
TZOFFSETTO:+0100
DTSTART:20221030T010000
TZNAME:CET
END:STANDARD
END:VTIMEZONE
END:VCALENDAR
