BEGIN:VCALENDAR
VERSION:2.0
PRODID:-//Events | FID-Recht//NONSGML Events//EN
CALSCALE:GREGORIAN
X-ORIGINAL-URL:https://events.intrecht.de/termine/
X-WR-CALDESC:Events | FID-Recht - Events
BEGIN:VEVENT
UID:20201105T2024Z-1604607846.2907-EO-2048-1@172.16.200.141
STATUS:CONFIRMED
DTSTAMP:20260425T132432Z
CREATED:20201103T183811Z
LAST-MODIFIED:20201103T184011Z
DTSTART;VALUE=DATE:20201118
DTEND;VALUE=DATE:20201127
SUMMARY: Virtual IACL Global Roundtable – Democracy 2020: Assessing Constit
 utional Decay\, Breakdown\, and Renewal Worldwide’ (Webinar Series)
DESCRIPTION: 18.-26.11.2020\, Online https://www.iacl-democracy-2020.org/  
X-ALT-DESC;FMTTYPE=text/html: <p>18.-26.11.2020\, Online</p><p><a href="htt
 ps://www.iacl-democracy-2020.org/">https://www.iacl-democracy-2020.org/</a>
 </p><p> </p><p>[av_button label='iCal-Export' link='./feed/eo-events' link_
 target='' size='small' position='center' label_display='' title_attr='' ico
 n_select='yes' icon='ue85b' font='entypo-fontello' color='custom' custom_bg
 ='#b5123e' custom_font='#ffffff' av_uid='' id='' custom_class='' admin_prev
 iew_bg='']</p>
CATEGORIES:Öffentliches Recht
LOCATION:Online
GEO:0.000000;0.000000
ORGANIZER;CN="ViFa-Recht":MAILTO:vifa-recht@sbb.spk-berlin.de
URL;VALUE=URI:https://events.intrecht.de/termine/termin/virtual-iacl-global
 -roundtable-democracy-2020-assessing-constitutional-decay-breakdown-and-ren
 ewal-worldwide-webinar-series/
END:VEVENT
BEGIN:VTIMEZONE
TZID:Europe/Berlin
BEGIN:STANDARD
TZOFFSETFROM:+0200
TZOFFSETTO:+0100
DTSTART:20201025T010000
TZNAME:CET
END:STANDARD
END:VTIMEZONE
END:VCALENDAR
