BEGIN:VCALENDAR
VERSION:2.0
PRODID:-//Events | FID-Recht//NONSGML Events//EN
CALSCALE:GREGORIAN
X-ORIGINAL-URL:https://events.intrecht.de/termine/
X-WR-CALDESC:Events | FID-Recht - Events
BEGIN:VEVENT
UID:20210904T1042Z-1630752158.132-EO-4507-1@172.16.200.141
STATUS:CONFIRMED
DTSTAMP:20260421T102407Z
CREATED:20210901T075923Z
LAST-MODIFIED:20210901T075923Z
DTSTART;VALUE=DATE:20210909
DTEND;VALUE=DATE:20210909
SUMMARY: Vested Interests and Democracy (Workshop) (CfP)
DESCRIPTION: 9.-10.12.2021\, Zürich (Frist für Einreichungen: 10.9.2021) Re
 search Workshop 2021 – DemocracyNet  
X-ALT-DESC;FMTTYPE=text/html: <p>9.-10.12.2021\, Zürich (Frist für Einreich
 ungen: 10.9.2021)</p><p><a href="https://democracynet.eu/ws2021/">Research 
 Workshop 2021 – DemocracyNet</a></p><p> </p><p>[av_button label='iCal-Expor
 t' link='./feed/eo-events' link_target='' size='small' position='center' la
 bel_display='' title_attr='' icon_select='yes' icon='ue85b' font='entypo-fo
 ntello' color='custom' custom_bg='#b5123e' custom_font='#ffffff' av_uid='' 
 id='' custom_class='' admin_preview_bg='']</p>
CATEGORIES:Öffentliches Recht
LOCATION:Ausland
GEO:0.000000;0.000000
ORGANIZER;CN="ViFa-Recht":MAILTO:vifa-recht@sbb.spk-berlin.de
URL;VALUE=URI:https://events.intrecht.de/termine/termin/vested-interests-an
 d-democracy-workshop-cfp/
END:VEVENT
BEGIN:VTIMEZONE
TZID:Europe/Berlin
BEGIN:DAYLIGHT
TZOFFSETFROM:+0100
TZOFFSETTO:+0200
DTSTART:20210328T010000
TZNAME:CEST
END:DAYLIGHT
END:VTIMEZONE
END:VCALENDAR
