BEGIN:VCALENDAR
VERSION:2.0
PRODID:-//Events | FID-Recht//NONSGML Events//EN
CALSCALE:GREGORIAN
X-ORIGINAL-URL:https://events.intrecht.de/termine/
X-WR-CALDESC:Events | FID-Recht - Events
BEGIN:VEVENT
UID:20210124T1236Z-1611491795.8728-EO-2785-1@172.16.200.141
STATUS:CONFIRMED
DTSTAMP:20260421T171924Z
CREATED:20210121T194645Z
LAST-MODIFIED:20210121T194655Z
DTSTART;TZID=Europe/Berlin:20210126T180000
DTEND;TZID=Europe/Berlin:20210126T200000
SUMMARY: Verzeihen als Pflicht (mit Kathleen A. Moran und Jens Timmermann) 
 (Online-Vortrag)
DESCRIPTION: 26.1.2021\, Online https://www.wiko-greifswald.de/programm/all
 gemeines/veranstaltungskalender/veranstaltung/n/verzeihen-als-pflicht-73835
 /  
X-ALT-DESC;FMTTYPE=text/html: <p>26.1.2021\, Online</p><p><a href="https://
 www.wiko-greifswald.de/programm/allgemeines/veranstaltungskalender/veransta
 ltung/n/verzeihen-als-pflicht-73835/">https://www.wiko-greifswald.de/progra
 mm/allgemeines/veranstaltungskalender/veranstaltung/n/verzeihen-als-pflicht
 -73835/</a></p><p> </p><p>[av_button label='iCal-Export' link='./feed/eo-ev
 ents' link_target='' size='small' position='center' label_display='' title_
 attr='' icon_select='yes' icon='ue85b' font='entypo-fontello' color='custom
 ' custom_bg='#b5123e' custom_font='#ffffff' av_uid='' id='' custom_class=''
  admin_preview_bg='']</p>
CATEGORIES:Recht interdisziplinär
LOCATION:Online
GEO:0.000000;0.000000
ORGANIZER;CN="ViFa-Recht":MAILTO:vifa-recht@sbb.spk-berlin.de
URL;VALUE=URI:https://events.intrecht.de/termine/termin/verzeihen-als-pflic
 ht-mit-kathleen-a-moran-und-jens-timmermann-online-vortrag/
END:VEVENT
BEGIN:VTIMEZONE
TZID:Europe/Berlin
BEGIN:STANDARD
TZOFFSETFROM:+0200
TZOFFSETTO:+0100
DTSTART:20201025T010000
TZNAME:CET
END:STANDARD
END:VTIMEZONE
END:VCALENDAR
