BEGIN:VCALENDAR
VERSION:2.0
PRODID:-//Events | FID-Recht//NONSGML Events//EN
CALSCALE:GREGORIAN
X-ORIGINAL-URL:https://events.intrecht.de/termine/
X-WR-CALDESC:Events | FID-Recht - Events
BEGIN:VEVENT
UID:20210220T0439Z-1613795944.343-EO-3176-1@172.16.200.141
STATUS:CONFIRMED
DTSTAMP:20260420T112852Z
CREATED:20210126T162135Z
LAST-MODIFIED:20210127T133044Z
DTSTART;TZID=Europe/Berlin:20210201T180000
DTEND;TZID=Europe/Berlin:20210201T200000
SUMMARY: Verstoß gegen die Menschenwürde? Sanktionen im SGB II und AsylbLG 
 (mit Gerhard Bäcker\, Elias Bender und Astrid Wallrabenstein) (Online-Disku
 ssion)
DESCRIPTION: 1.2.2021\, Online https://www.jura.uni-frankfurt.de/62842079/0
 _Goethe-Uni-Law-Clinic    
X-ALT-DESC;FMTTYPE=text/html: <p>1.2.2021\, Online</p><p><a href="https://w
 ww.jura.uni-frankfurt.de/62842079/0_Goethe-Uni-Law-Clinic">https://www.jura
 .uni-frankfurt.de/62842079/0_Goethe-Uni-Law-Clinic</a></p><p> </p><p> </p><
 p>[av_button label='iCal-Export' link='./feed/eo-events' link_target='' siz
 e='small' position='center' label_display='' title_attr='' icon_select='yes
 ' icon='ue85b' font='entypo-fontello' color='custom' custom_bg='#b5123e' cu
 stom_font='#ffffff' av_uid='' id='' custom_class='' admin_preview_bg='']</p
 >
CATEGORIES:Öffentliches Recht
LOCATION:Online
GEO:0.000000;0.000000
ORGANIZER;CN="Frontend-Submission":MAILTO:florian.schwalenberg@sbb.spk-berl
 in.de
URL;VALUE=URI:https://events.intrecht.de/termine/termin/verstoss-gegen-die-
 menschenwuerde-sanktionen-im-sgb-ii-und-asylblg-online-diskussion/
END:VEVENT
BEGIN:VTIMEZONE
TZID:Europe/Berlin
BEGIN:STANDARD
TZOFFSETFROM:+0200
TZOFFSETTO:+0100
DTSTART:20201025T010000
TZNAME:CET
END:STANDARD
END:VTIMEZONE
END:VCALENDAR
