BEGIN:VCALENDAR
VERSION:2.0
PRODID:-//Events | FID-Recht//NONSGML Events//EN
CALSCALE:GREGORIAN
X-ORIGINAL-URL:https://events.intrecht.de/termine/
X-WR-CALDESC:Events | FID-Recht - Events
BEGIN:VEVENT
UID:20201115T1130Z-1605439831.5223-EO-2198-1@172.16.200.141
STATUS:CONFIRMED
DTSTAMP:20260422T161017Z
CREATED:20201106T161140Z
LAST-MODIFIED:20201106T161335Z
DTSTART;TZID=Europe/Berlin:20201111T190000
DTEND;TZID=Europe/Berlin:20201111T190000
SUMMARY: Verspätete Gerechtigkeit? Über die letzten Strafprozesse gegen NS-
 Verbrecher (Online-Podiumsdiskussion)
DESCRIPTION: 11.11.2020\, Online https://www.fritz-bauer-institut.de/verans
 taltungen/veranstaltung/verspaetete-gerechtigkeit  
X-ALT-DESC;FMTTYPE=text/html: <p>11.11.2020\, Online</p><p><a href="https:/
 /www.fritz-bauer-institut.de/veranstaltungen/veranstaltung/verspaetete-gere
 chtigkeit">https://www.fritz-bauer-institut.de/veranstaltungen/veranstaltun
 g/verspaetete-gerechtigkeit</a></p><p> </p><p>[av_button label='iCal-Export
 ' link='./feed/eo-events' link_target='' size='small' position='center' lab
 el_display='' title_attr='' icon_select='yes' icon='ue85b' font='entypo-fon
 tello' color='custom' custom_bg='#b5123e' custom_font='#ffffff' av_uid='' i
 d='' custom_class='' admin_preview_bg='']</p>
CATEGORIES:Recht interdisziplinär,Strafrecht
LOCATION:Online
GEO:0.000000;0.000000
ORGANIZER;CN="ViFa-Recht":MAILTO:vifa-recht@sbb.spk-berlin.de
URL;VALUE=URI:https://events.intrecht.de/termine/termin/verspaetete-gerecht
 igkeit-ueber-die-letzten-strafprozesse-gegen-ns-verbrecher-online-podiumsdi
 skussion/
END:VEVENT
BEGIN:VTIMEZONE
TZID:Europe/Berlin
BEGIN:STANDARD
TZOFFSETFROM:+0200
TZOFFSETTO:+0100
DTSTART:20201025T010000
TZNAME:CET
END:STANDARD
END:VTIMEZONE
END:VCALENDAR
