BEGIN:VCALENDAR
VERSION:2.0
PRODID:-//Events | FID-Recht//NONSGML Events//EN
CALSCALE:GREGORIAN
X-ORIGINAL-URL:https://events.intrecht.de/termine/
X-WR-CALDESC:Events | FID-Recht - Events
BEGIN:VEVENT
UID:20200630T1817Z-1593541028.4646-EO-921-1@172.16.200.141
STATUS:CONFIRMED
DTSTAMP:20260422T175400Z
CREATED:20200604T175344Z
LAST-MODIFIED:20200604T175444Z
DTSTART;VALUE=DATE:20200903
DTEND;VALUE=DATE:20200906
SUMMARY: VERSCHOBEN: FRANKENLAW – Community Division Modernity / Critical L
 egal Conference (CLC) 2020 (Konferenz)
DESCRIPTION: VERSCHOBEN auf 2.-4.9.2021\, Dundee  (Call for streams will op
 en later in 2020) https://clc2020.org/  
X-ALT-DESC;FMTTYPE=text/html: <p>VERSCHOBEN auf <span style="display: inlin
 e !important\; float: none\; background-color: #ffffff\; color: #333333\; c
 ursor: text\; font-family: Georgia\,'Times New Roman'\,'Bitstream Charter'\
 ,Times\,serif\; font-size: 16px\; font-style: normal\; font-variant: normal
 \; font-weight: 400\; letter-spacing: normal\; orphans: 2\; text-align: lef
 t\; text-decoration: none\; text-indent: 0px\; text-transform: none\; -webk
 it-text-stroke-width: 0px\; white-space: normal\; word-spacing: 0px\;">2.-4
 .9.2021</span>\, Dundee  (Call for streams will open later in 2020)</p><p><
 a href="https://clc2020.org/">https://clc2020.org/</a></p><p> </p><p>[av_bu
 tton label='iCal-Export' link='./feed/eo-events' link_target='' size='small
 ' position='center' label_display='' title_attr='' icon_select='yes' icon='
 ue85b' font='entypo-fontello' color='custom' custom_bg='#b5123e' custom_fon
 t='#ffffff' av_uid='' id='' custom_class='' admin_preview_bg='']</p>
CATEGORIES:Recht interdisziplinär
LOCATION:Ausland
GEO:0.000000;0.000000
ORGANIZER;CN="ViFa-Recht":MAILTO:vifa-recht@sbb.spk-berlin.de
URL;VALUE=URI:https://events.intrecht.de/termine/termin/verschoben-umbenann
 t-frankenlaw-community-division-modernity-critical-legal-conference-clc-202
 0-konferenz/
END:VEVENT
BEGIN:VTIMEZONE
TZID:Europe/Berlin
BEGIN:DAYLIGHT
TZOFFSETFROM:+0100
TZOFFSETTO:+0200
DTSTART:20200329T010000
TZNAME:CEST
END:DAYLIGHT
END:VTIMEZONE
END:VCALENDAR
