BEGIN:VCALENDAR
VERSION:2.0
PRODID:-//Events | FID-Recht//NONSGML Events//EN
CALSCALE:GREGORIAN
X-ORIGINAL-URL:https://events.intrecht.de/termine/
X-WR-CALDESC:Events | FID-Recht - Events
BEGIN:VEVENT
UID:20200617T0913Z-1592385235.4921-EO-759-1@172.16.200.141
STATUS:CONFIRMED
DTSTAMP:20260420T112851Z
CREATED:20200603T133243Z
LAST-MODIFIED:20200603T133243Z
DTSTART;VALUE=DATE:20200624
DTEND;VALUE=DATE:20200626
SUMMARY: VERSCHOBEN: Regulatory Governance – Who Carries the Conversation? 
 / 8th Biennial Regulatory Governance Conference (Konferenz)
DESCRIPTION: VERSCHOBEN auf 23.-25.6.2021\, Exeter http://socialsciences.ex
 eter.ac.uk/politics/research/centres/ceg/ecpr_2019/  
X-ALT-DESC;FMTTYPE=text/html: <p>VERSCHOBEN auf <span style="display: inlin
 e !important\; float: none\; background-color: #ffffff\; color: #333333\; c
 ursor: text\; font-family: Georgia\,'Times New Roman'\,'Bitstream Charter'\
 ,Times\,serif\; font-size: 16px\; font-style: normal\; font-variant: normal
 \; font-weight: 400\; letter-spacing: normal\; orphans: 2\; text-align: lef
 t\; text-decoration: none\; text-indent: 0px\; text-transform: none\; -webk
 it-text-stroke-width: 0px\; white-space: normal\; word-spacing: 0px\;">23.-
 25.6.2021</span>\, Exeter</p><p><a href="http://socialsciences.exeter.ac.uk
 /politics/research/centres/ceg/ecpr_2019/">http://socialsciences.exeter.ac.
 uk/politics/research/centres/ceg/ecpr_2019/</a></p><p> </p><p>[av_button la
 bel='iCal-Export' link='./feed/eo-events' link_target='' size='small' posit
 ion='center' label_display='' title_attr='' icon_select='yes' icon='ue85b' 
 font='entypo-fontello' color='custom' custom_bg='#b5123e' custom_font='#fff
 fff' av_uid='' id='' custom_class='' admin_preview_bg='']</p>
CATEGORIES:Europäisches / Internationales Recht,Öffentliches Recht,Recht interdisziplinär
LOCATION:Ausland
GEO:0.000000;0.000000
ORGANIZER;CN="ViFa-Recht":MAILTO:vifa-recht@sbb.spk-berlin.de
URL;VALUE=URI:https://events.intrecht.de/termine/termin/verschoben-regulato
 ry-governance-who-carries-the-conversation-8th-biennial-regulatory-governan
 ce-conference-konferenz/
END:VEVENT
BEGIN:VTIMEZONE
TZID:Europe/Berlin
BEGIN:DAYLIGHT
TZOFFSETFROM:+0100
TZOFFSETTO:+0200
DTSTART:20200329T010000
TZNAME:CEST
END:DAYLIGHT
END:VTIMEZONE
END:VCALENDAR
