BEGIN:VCALENDAR
VERSION:2.0
PRODID:-//Events | FID-Recht//NONSGML Events//EN
CALSCALE:GREGORIAN
X-ORIGINAL-URL:https://events.intrecht.de/termine/
X-WR-CALDESC:Events | FID-Recht - Events
BEGIN:VEVENT
UID:20200623T2346Z-1592955978.4376-EO-874-1@172.16.200.141
STATUS:CONFIRMED
DTSTAMP:20260421T133412Z
CREATED:20200604T161308Z
LAST-MODIFIED:20200604T161308Z
DTSTART;VALUE=DATE:20200709
DTEND;VALUE=DATE:20200712
SUMMARY: VERSCHOBEN: Public Law\, (Dis)trust and Dissent / 2020 ICON·S Annu
 al Conference (Konferenz)
DESCRIPTION: VERSCHOBEN auf 8.-10.7.2021\, Breslau https://www.icon-society
 .org/2020-conference/call_2020/  
X-ALT-DESC;FMTTYPE=text/html: <p>VERSCHOBEN auf <span style="display: inlin
 e !important\; float: none\; background-color: #ffffff\; color: #333333\; c
 ursor: text\; font-family: Georgia\,'Times New Roman'\,'Bitstream Charter'\
 ,Times\,serif\; font-size: 16px\; font-style: normal\; font-variant: normal
 \; font-weight: 400\; letter-spacing: normal\; orphans: 2\; text-align: lef
 t\; text-decoration: none\; text-indent: 0px\; text-transform: none\; -webk
 it-text-stroke-width: 0px\; white-space: normal\; word-spacing: 0px\;">8.-1
 0.7.2021</span>\, Breslau</p><p><a href="https://www.icon-society.org/2020-
 conference/call_2020/">https://www.icon-society.org/2020-conference/call_20
 20/</a></p><p> </p><p>[av_button label='iCal-Export' link='./feed/eo-events
 ' link_target='' size='small' position='center' label_display='' title_attr
 ='' icon_select='yes' icon='ue85b' font='entypo-fontello' color='custom' cu
 stom_bg='#b5123e' custom_font='#ffffff' av_uid='' id='' custom_class='' adm
 in_preview_bg='']</p>
CATEGORIES:Öffentliches Recht
LOCATION:Ausland
GEO:0.000000;0.000000
ORGANIZER;CN="ViFa-Recht":MAILTO:vifa-recht@sbb.spk-berlin.de
URL;VALUE=URI:https://events.intrecht.de/termine/termin/verschoben-public-l
 aw-distrust-and-dissent-2020-icon%c2%b7s-annual-conference-konferenz/
END:VEVENT
BEGIN:VTIMEZONE
TZID:Europe/Berlin
BEGIN:DAYLIGHT
TZOFFSETFROM:+0100
TZOFFSETTO:+0200
DTSTART:20200329T010000
TZNAME:CEST
END:DAYLIGHT
END:VTIMEZONE
END:VCALENDAR
