BEGIN:VCALENDAR
VERSION:2.0
PRODID:-//Events | FID-Recht//NONSGML Events//EN
CALSCALE:GREGORIAN
X-ORIGINAL-URL:https://events.intrecht.de/termine/
X-WR-CALDESC:Events | FID-Recht - Events
BEGIN:VEVENT
UID:20201005T2043Z-1601930610.4073-EO-1658-1@172.16.200.141
STATUS:CONFIRMED
DTSTAMP:20260422T070526Z
CREATED:20201002T103223Z
LAST-MODIFIED:20201002T103743Z
DTSTART;VALUE=DATE:20201007
DTEND;VALUE=DATE:20201010
SUMMARY: VERSCHOBEN: Thematic Congress of the IACL: Diversity and Plurality
  in Law (Konferenz)
DESCRIPTION: 7.-9.10.2020\, Pretoria – NEUER TERMIN: 6.-8.10.2021 https://a
 idc-iacl.org/thematic-congresses/  
X-ALT-DESC;FMTTYPE=text/html: <p>7.-9.10.2020\, Pretoria – NEUER TERMIN: 6.
 -8.10.2021</p><p><a href="https://aidc-iacl.org/thematic-congresses/">https
 ://aidc-iacl.org/thematic-congresses/</a></p><p> </p><p>[av_button label='i
 Cal-Export' link='./feed/eo-events' link_target='' size='small' position='c
 enter' label_display='' title_attr='' icon_select='yes' icon='ue85b' font='
 entypo-fontello' color='custom' custom_bg='#b5123e' custom_font='#ffffff' a
 v_uid='' id='' custom_class='' admin_preview_bg='']</p>
CATEGORIES:Recht interdisziplinär
LOCATION:Ausland
GEO:0.000000;0.000000
ORGANIZER;CN="ViFa-Recht":MAILTO:vifa-recht@sbb.spk-berlin.de
URL;VALUE=URI:https://events.intrecht.de/termine/termin/verschoben-next-the
 matic-congress-of-the-iacl-diversity-and-plurality-in-law-konferenz/
END:VEVENT
BEGIN:VTIMEZONE
TZID:Europe/Berlin
BEGIN:DAYLIGHT
TZOFFSETFROM:+0100
TZOFFSETTO:+0200
DTSTART:20200329T010000
TZNAME:CEST
END:DAYLIGHT
END:VTIMEZONE
END:VCALENDAR
