BEGIN:VCALENDAR
VERSION:2.0
PRODID:-//Events | FID-Recht//NONSGML Events//EN
CALSCALE:GREGORIAN
X-ORIGINAL-URL:https://events.intrecht.de/termine/
X-WR-CALDESC:Events | FID-Recht - Events
BEGIN:VEVENT
UID:20220717T0734Z-1658043282.5804-EO-4578-1@172.16.200.151
STATUS:CONFIRMED
DTSTAMP:20260426T020932Z
CREATED:20220714T092829Z
LAST-MODIFIED:20220714T092931Z
DTSTART;VALUE=DATE:20220718
DTEND;VALUE=DATE:20220724
SUMMARY: VERSCHOBEN: Munich Climate School (Summer School)
DESCRIPTION: 18.-23.7.2022\, München – NEUER TERMIN: Herbst 2022 General 3 
 — LMU – Munich Climate School  
X-ALT-DESC;FMTTYPE=text/html: <p>18.-23.7.2022\, München – NEUER TERMIN: He
 rbst 2022</p><p><a href="https://www.munich-climate-school.lmu.de/program">
 General 3 — LMU - Munich Climate School</a></p><p> </p><p>[av_button label=
 'iCal-Export' link='./feed/eo-events' link_target='' size='small' position=
 'center' label_display='' title_attr='' icon_select='yes' icon='ue85b' font
 ='entypo-fontello' color='custom' custom_bg='#b5123e' custom_font='#ffffff'
  av_uid='' id='' custom_class='' admin_preview_bg='']</p>
CATEGORIES:Recht interdisziplinär
LOCATION:Inland
GEO:0.000000;0.000000
ORGANIZER;CN="ViFa-Recht":MAILTO:vifa-recht@sbb.spk-berlin.de
URL;VALUE=URI:https://events.intrecht.de/termine/termin/verschoben-munich-c
 limate-school-summer-school/
END:VEVENT
BEGIN:VTIMEZONE
TZID:Europe/Berlin
BEGIN:DAYLIGHT
TZOFFSETFROM:+0100
TZOFFSETTO:+0200
DTSTART:20220327T010000
TZNAME:CEST
END:DAYLIGHT
END:VTIMEZONE
END:VCALENDAR
