BEGIN:VCALENDAR
VERSION:2.0
PRODID:-//Events | FID-Recht//NONSGML Events//EN
CALSCALE:GREGORIAN
X-ORIGINAL-URL:https://events.intrecht.de/termine/
X-WR-CALDESC:Events | FID-Recht - Events
BEGIN:VEVENT
UID:20200623T0942Z-1592905346.2095-EO-976-1@172.16.200.141
STATUS:CONFIRMED
DTSTAMP:20260421T115613Z
CREATED:20200605T123006Z
LAST-MODIFIED:20200622T181620Z
DTSTART;VALUE=DATE:20200706
DTEND;VALUE=DATE:20200709
SUMMARY: VERSCHOBEN: Multiple Legalities – Conflict and Entanglement in the
  Global Legal Order (International conference jointly organized by HU Berli
 n and Graduate Institute Geneva) (Konferenz)
DESCRIPTION: VERSCHOBEN auf voraussichtlich 13.-15.1.2021\, Berlin https://
 www.osaic.eu/events/      
X-ALT-DESC;FMTTYPE=text/html: <p>VERSCHOBEN auf <span style="display: inlin
 e !important\; float: none\; background-color: #ffffff\; color: #333333\; c
 ursor: text\; font-family: Georgia\,'Times New Roman'\,'Bitstream Charter'\
 ,Times\,serif\; font-size: 16px\; font-style: normal\; font-variant: normal
 \; font-weight: 400\; letter-spacing: normal\; orphans: 2\; text-align: lef
 t\; text-decoration: none\; text-indent: 0px\; text-transform: none\; -webk
 it-text-stroke-width: 0px\; white-space: normal\; word-spacing: 0px\;"> vor
 aussichtlich 13.-15.1.2021</span>\, Berlin</p><p><a href="https://www.osaic
 .eu/events/">https://www.osaic.eu/events/</a></p><p> </p><p> </p><p> </p><p
 >[av_button label='iCal-Export' link='./feed/eo-events' link_target='' size
 ='small' position='center' label_display='' title_attr='' icon_select='yes'
  icon='ue85b' font='entypo-fontello' color='custom' custom_bg='#b5123e' cus
 tom_font='#ffffff' av_uid='' id='' custom_class='' admin_preview_bg='']</p>
CATEGORIES:Europäisches / Internationales Recht
LOCATION:Inland
GEO:0.000000;0.000000
ORGANIZER;CN="ViFa-Recht":MAILTO:vifa-recht@sbb.spk-berlin.de
URL;VALUE=URI:https://events.intrecht.de/termine/termin/verschoben-multiple
 -legalities-conflict-and-entanglement-in-the-global-legal-order-internation
 al-conference-jointly-organized-by-hu-berlin-and-graduate-institute-geneva-
 konferenz/
END:VEVENT
BEGIN:VTIMEZONE
TZID:Europe/Berlin
BEGIN:DAYLIGHT
TZOFFSETFROM:+0100
TZOFFSETTO:+0200
DTSTART:20200329T010000
TZNAME:CEST
END:DAYLIGHT
END:VTIMEZONE
END:VCALENDAR
