BEGIN:VCALENDAR
VERSION:2.0
PRODID:-//Events | FID-Recht//NONSGML Events//EN
CALSCALE:GREGORIAN
X-ORIGINAL-URL:https://events.intrecht.de/termine/
X-WR-CALDESC:Events | FID-Recht - Events
BEGIN:VEVENT
UID:20200616T2142Z-1592343771.1907-EO-785-1@172.16.200.141
STATUS:CONFIRMED
DTSTAMP:20260422T160520Z
CREATED:20200603T144359Z
LAST-MODIFIED:20200622T124022Z
DTSTART;VALUE=DATE:20200627
DTEND;VALUE=DATE:20200628
SUMMARY: VERSCHOBEN: Multilateralismus in der Bewährungsprobe/ Potsdamer UN
 O-Konferenz 2020 (Konferenz)
DESCRIPTION: 27.6.2020\, Potsdam – NEUER TERMIN: 26.6.2021 https://www.uni-
 potsdam.de/de/mrz/veranstaltungen-und-kooperationen/kommende-veranstaltunge
 n  
X-ALT-DESC;FMTTYPE=text/html: <p>27.6.2020\, Potsdam – NEUER TERMIN: 26.6.2
 021</p><p><a href="https://www.uni-potsdam.de/de/mrz/veranstaltungen-und-ko
 operationen/kommende-veranstaltungen">https://www.uni-potsdam.de/de/mrz/ver
 anstaltungen-und-kooperationen/kommende-veranstaltungen</a></p><p> </p><p>[
 av_button label='iCal-Export' link='./feed/eo-events' link_target='' size='
 small' position='center' label_display='' title_attr='' icon_select='yes' i
 con='ue85b' font='entypo-fontello' color='custom' custom_bg='#b5123e' custo
 m_font='#ffffff' av_uid='' id='' custom_class='' admin_preview_bg='']</p>
CATEGORIES:Europäisches / Internationales Recht,Recht interdisziplinär
LOCATION:Inland
GEO:0.000000;0.000000
ORGANIZER;CN="ViFa-Recht":MAILTO:vifa-recht@sbb.spk-berlin.de
URL;VALUE=URI:https://events.intrecht.de/termine/termin/verschoben-multilat
 eralismus-in-der-bewaehrungsprobe-potsdamer-uno-konferenz-2020-konferenz/
END:VEVENT
BEGIN:VTIMEZONE
TZID:Europe/Berlin
BEGIN:DAYLIGHT
TZOFFSETFROM:+0100
TZOFFSETTO:+0200
DTSTART:20200329T010000
TZNAME:CEST
END:DAYLIGHT
END:VTIMEZONE
END:VCALENDAR
