BEGIN:VCALENDAR
VERSION:2.0
PRODID:-//Events | FID-Recht//NONSGML Events//EN
CALSCALE:GREGORIAN
X-ORIGINAL-URL:https://events.intrecht.de/termine/
X-WR-CALDESC:Events | FID-Recht - Events
BEGIN:VEVENT
UID:20200618T1022Z-1592475757.6109-EO-962-1@172.16.200.141
STATUS:CONFIRMED
DTSTAMP:20260421T172533Z
CREATED:20200605T110956Z
LAST-MODIFIED:20200605T111013Z
DTSTART;VALUE=DATE:20200701
DTEND;VALUE=DATE:20200704
SUMMARY: VERSCHOBEN: Legal Professions and Methods – 6th Biennal Conference
  of the European Society for Comparative Legal History (ESCLH) (Konferenz)
DESCRIPTION: VERSCHOBEN auf 30.6.-2.7.2021\, Lissabon http://esclh.blogspot
 .com/2019/06/call-for-papers-professions-and-methods.html http://esclh.blog
 spot.com/2020/03/conference-and-postponed-6th-esclh.html https://www.esclh.
 com/
X-ALT-DESC;FMTTYPE=text/html: <p>VERSCHOBEN auf 30.6.-2.7.2021\, Lissabon</
 p><p><a href="http://esclh.blogspot.com/2019/06/call-for-papers-professions
 -and-methods.html">http://esclh.blogspot.com/2019/06/call-for-papers-profes
 sions-and-methods.html</a></p><p><a href="http://esclh.blogspot.com/2020/03
 /conference-and-postponed-6th-esclh.html">http://esclh.blogspot.com/2020/03
 /conference-and-postponed-6th-esclh.html</a></p><p><a href="https://www.esc
 lh.com/">https://www.esclh.com/</a></p><p>[av_button label='iCal-Export' li
 nk='./feed/eo-events' link_target='' size='small' position='center' label_d
 isplay='' title_attr='' icon_select='yes' icon='ue85b' font='entypo-fontell
 o' color='custom' custom_bg='#b5123e' custom_font='#ffffff' av_uid='' id=''
  custom_class='' admin_preview_bg='']</p>
CATEGORIES:Recht interdisziplinär
LOCATION:Ausland
GEO:0.000000;0.000000
ORGANIZER;CN="ViFa-Recht":MAILTO:vifa-recht@sbb.spk-berlin.de
URL;VALUE=URI:https://events.intrecht.de/termine/termin/verschoben-legal-pr
 ofessions-and-methods-6th-biennal-conference-of-the-european-society-for-co
 mparative-legal-history-esclh-konferenz/
END:VEVENT
BEGIN:VTIMEZONE
TZID:Europe/Berlin
BEGIN:DAYLIGHT
TZOFFSETFROM:+0100
TZOFFSETTO:+0200
DTSTART:20200329T010000
TZNAME:CEST
END:DAYLIGHT
END:VTIMEZONE
END:VCALENDAR
