BEGIN:VCALENDAR
VERSION:2.0
PRODID:-//Events | FID-Recht//NONSGML Events//EN
CALSCALE:GREGORIAN
X-ORIGINAL-URL:https://events.intrecht.de/termine/
X-WR-CALDESC:Events | FID-Recht - Events
BEGIN:VEVENT
UID:20200629T0637Z-1593412656.3605-EO-901-1@172.16.200.141
STATUS:CONFIRMED
DTSTAMP:20260422T175747Z
CREATED:20200604T164803Z
LAST-MODIFIED:20200604T164803Z
DTSTART;VALUE=DATE:20200824
DTEND;VALUE=DATE:20200827
SUMMARY: VERSCHOBEN: Law and Digital Society – Re-Imagining the Futures / A
 nnual Conference of the Research Committee on Sociology of Law (RCSL) Konfe
 renz)
DESCRIPTION: 24.-26.8.2020\, Lund – NEUER TERMIN: Herbst 2021   http://www.
 rcsl2020.se/app/attendee/default.asp?ProjectId=15809&PageId=92618    
X-ALT-DESC;FMTTYPE=text/html: <p>24.-26.8.2020\, Lund – NEUER TERMIN: Herbs
 t 2021</p><p> </p><p><a href="http://www.rcsl2020.se/app/attendee/default.a
 sp?ProjectId=15809&PageId=92618">http://www.rcsl2020.se/app/attendee/defaul
 t.asp?ProjectId=15809&PageId=92618</a></p><p> </p><p> </p><p>[av_button lab
 el='iCal-Export' link='./feed/eo-events' link_target='' size='small' positi
 on='center' label_display='' title_attr='' icon_select='yes' icon='ue85b' f
 ont='entypo-fontello' color='custom' custom_bg='#b5123e' custom_font='#ffff
 ff' av_uid='' id='' custom_class='' admin_preview_bg='']</p>
CATEGORIES:Recht interdisziplinär
LOCATION:Ausland
GEO:0.000000;0.000000
ORGANIZER;CN="ViFa-Recht":MAILTO:vifa-recht@sbb.spk-berlin.de
URL;VALUE=URI:https://events.intrecht.de/termine/termin/verschoben-law-and-
 digital-society-re-imagining-the-futures-annual-conference-of-the-research-
 committee-on-sociology-of-law-rcsl-konferenz/
END:VEVENT
BEGIN:VTIMEZONE
TZID:Europe/Berlin
BEGIN:DAYLIGHT
TZOFFSETFROM:+0100
TZOFFSETTO:+0200
DTSTART:20200329T010000
TZNAME:CEST
END:DAYLIGHT
END:VTIMEZONE
END:VCALENDAR
