BEGIN:VCALENDAR
VERSION:2.0
PRODID:-//Events | FID-Recht//NONSGML Events//EN
CALSCALE:GREGORIAN
X-ORIGINAL-URL:https://events.intrecht.de/termine/
X-WR-CALDESC:Events | FID-Recht - Events
BEGIN:VEVENT
UID:20200625T0932Z-1593077533.623-EO-929-1@172.16.200.141
STATUS:CONFIRMED
DTSTAMP:20260421T184410Z
CREATED:20200630T150932Z
LAST-MODIFIED:20220629T122409Z
DTSTART;VALUE=DATE:20220706
DTEND;VALUE=DATE:20220710
SUMMARY: Law and Constitutional Change – British Legal History Conference (
 Konferenz)
DESCRIPTION: 6.-9.7.2022\, Belfast The British Legal History Conference 202
 2 | Queen’s University Belfast (qub.ac.uk)  
X-ALT-DESC;FMTTYPE=text/html: <p><span style="display: inline !important\; 
 float: none\; background-color: #ffffff\; color: #333333\; cursor: text\; f
 ont-family: Georgia\,'Times New Roman'\,'Bitstream Charter'\,Times\,serif\;
  font-size: 16px\; font-style: normal\; font-variant: normal\; font-weight:
  400\; letter-spacing: normal\; orphans: 2\; text-align: left\; text-decora
 tion: none\; text-indent: 0px\; text-transform: none\; -webkit-text-stroke-
 width: 0px\; white-space: normal\; word-spacing: 0px\;">6.-9.7.2022\, Belfa
 st</span></p><p><a href="https://www.qub.ac.uk/sites/BLH-Conference-2022/">
 The British Legal History Conference 2022 | Queen's University Belfast (qub
 .ac.uk)</a></p><p> </p><p>[av_button label='iCal-Export' link='./feed/eo-ev
 ents' link_target='' size='small' position='center' label_display='' title_
 attr='' icon_select='yes' icon='ue85b' font='entypo-fontello' color='custom
 ' custom_bg='#b5123e' custom_font='#ffffff' av_uid='' id='' custom_class=''
  admin_preview_bg='']</p>
CATEGORIES:Öffentliches Recht,Recht interdisziplinär
LOCATION:Ausland
GEO:0.000000;0.000000
ORGANIZER;CN="ViFa-Recht":MAILTO:vifa-recht@sbb.spk-berlin.de
URL;VALUE=URI:https://events.intrecht.de/termine/termin/verschoben-law-and-
 constitutional-change-british-legal-history-conference-konferenz/
END:VEVENT
BEGIN:VTIMEZONE
TZID:Europe/Berlin
BEGIN:DAYLIGHT
TZOFFSETFROM:+0100
TZOFFSETTO:+0200
DTSTART:20220327T010000
TZNAME:CEST
END:DAYLIGHT
END:VTIMEZONE
END:VCALENDAR
