BEGIN:VCALENDAR
VERSION:2.0
PRODID:-//Events | FID-Recht//NONSGML Events//EN
CALSCALE:GREGORIAN
X-ORIGINAL-URL:https://events.intrecht.de/termine/
X-WR-CALDESC:Events | FID-Recht - Events
BEGIN:VEVENT
UID:20200624T0102Z-1592960522.1339-EO-950-1@172.16.200.141
STATUS:CONFIRMED
DTSTAMP:20260421T151818Z
CREATED:20200630T152314Z
LAST-MODIFIED:20210803T160015Z
DTSTART;VALUE=DATE:20210830
DTEND;VALUE=DATE:20210831
SUMMARY: VERSCHOBEN: Law and Constitutional Change – British Legal History 
 Conference (Call opening)
DESCRIPTION: VERSCHOBEN vom 7.-10.7.2021 auf 6.-9.7.2022\, Belfast\, Deadli
 ne: 30.8.2021) Neuer Call for papers (März 2021): Call for Papers | The Bri
 tish Legal History Conference 2022 | Queen’s University Belfast (qub.ac.uk)
X-ALT-DESC;FMTTYPE=text/html: <p>VERSCHOBEN vom 7.-10.7.2021 auf 6.-9.7.202
 2\, Belfast\, Deadline: 30.8.2021)</p><p>Neuer Call for papers (März 2021):
  <a href="https://www.qub.ac.uk/sites/BLH-Conference-2022/CallforPapers/">C
 all for Papers | The British Legal History Conference 2022 | Queen's Univer
 sity Belfast (qub.ac.uk)</a></p><p>[av_button label='iCal-Export' link='./f
 eed/eo-events' link_target='' size='small' position='center' label_display=
 '' title_attr='' icon_select='yes' icon='ue85b' font='entypo-fontello' colo
 r='custom' custom_bg='#b5123e' custom_font='#ffffff' av_uid='' id='' custom
 _class='' admin_preview_bg='']</p>
CATEGORIES:Öffentliches Recht,Recht interdisziplinär
LOCATION:Ausland
GEO:0.000000;0.000000
ORGANIZER;CN="ViFa-Recht":MAILTO:vifa-recht@sbb.spk-berlin.de
URL;VALUE=URI:https://events.intrecht.de/termine/termin/verschoben-law-and-
 constitutional-change-british-legal-history-conference-call-opening/
END:VEVENT
BEGIN:VTIMEZONE
TZID:Europe/Berlin
BEGIN:DAYLIGHT
TZOFFSETFROM:+0100
TZOFFSETTO:+0200
DTSTART:20210328T010000
TZNAME:CEST
END:DAYLIGHT
END:VTIMEZONE
END:VCALENDAR
