BEGIN:VCALENDAR
VERSION:2.0
PRODID:-//Events | FID-Recht//NONSGML Events//EN
CALSCALE:GREGORIAN
X-ORIGINAL-URL:https://events.intrecht.de/termine/
X-WR-CALDESC:Events | FID-Recht - Events
BEGIN:VEVENT
UID:20200927T2010Z-1601237420.791-EO-1519-1@172.16.200.141
STATUS:CONFIRMED
DTSTAMP:20260422T194300Z
CREATED:20200922T170515Z
LAST-MODIFIED:20200922T170515Z
DTSTART;VALUE=DATE:20200921
DTEND;VALUE=DATE:20200923
SUMMARY: VERSCHOBEN: „Jeder hat das Recht auf eine Staatsangehörigkeit.“ Ge
 schichte der Zugehörigkeit des Einzelnen zur Gemeinschaft und der daraus fo
 lgenden Rechte und Pflichten (Konferenz)
DESCRIPTION: 21.-22.9.2020\, Würzburg – NEUER TERMIN: 20.-21.9.2021 http://
 pmh.umk.pl/de/tagung-jeder-hat-das-recht-auf-eine-staatsangehorigkeit-2020/
   
X-ALT-DESC;FMTTYPE=text/html: <p>21.-22.9.2020\, Würzburg – NEUER TERMIN: 2
 0.-21.9.2021</p><p><a href="http://pmh.umk.pl/de/tagung-jeder-hat-das-recht
 -auf-eine-staatsangehorigkeit-2020/">http://pmh.umk.pl/de/tagung-jeder-hat-
 das-recht-auf-eine-staatsangehorigkeit-2020/</a></p><p> </p><p>[av_button l
 abel='iCal-Export' link='./feed/eo-events' link_target='' size='small' posi
 tion='center' label_display='' title_attr='' icon_select='yes' icon='ue85b'
  font='entypo-fontello' color='custom' custom_bg='#b5123e' custom_font='#ff
 ffff' av_uid='' id='' custom_class='' admin_preview_bg='']</p>
CATEGORIES:Öffentliches Recht
LOCATION:Inland
GEO:0.000000;0.000000
ORGANIZER;CN="ViFa-Recht":MAILTO:vifa-recht@sbb.spk-berlin.de
URL;VALUE=URI:https://events.intrecht.de/termine/termin/verschoben-jeder-ha
 t-das-recht-auf-eine-staatsangehoerigkeit-geschichte-der-zugehoerigkeit-des
 -einzelnen-zur-gemeinschaft-und-der-daraus-folgenden-rechte-und-pflichten-k
 onferenz/
END:VEVENT
BEGIN:VTIMEZONE
TZID:Europe/Berlin
BEGIN:DAYLIGHT
TZOFFSETFROM:+0100
TZOFFSETTO:+0200
DTSTART:20200329T010000
TZNAME:CEST
END:DAYLIGHT
END:VTIMEZONE
END:VCALENDAR
