BEGIN:VCALENDAR
VERSION:2.0
PRODID:-//Events | FID-Recht//NONSGML Events//EN
CALSCALE:GREGORIAN
X-ORIGINAL-URL:https://events.intrecht.de/termine/
X-WR-CALDESC:Events | FID-Recht - Events
BEGIN:VEVENT
UID:20200627T1655Z-1593276903.704-EO-922-1@172.16.200.141
STATUS:CONFIRMED
DTSTAMP:20260425T132724Z
CREATED:20200604T184800Z
LAST-MODIFIED:20200626T145642Z
DTSTART;VALUE=DATE:20211011
DTEND;VALUE=DATE:20211014
SUMMARY: Human Dignity\, Law\, and Religious Diversity – Designing the Futu
 re of Inter-Cultural Societies / Sixth International Academy of Comparative
  law (ICLARS) Conference (Konferenz)
DESCRIPTION: 11.-13.10.2021\, Cordoba https://iclars2020cordoba.org/esp/  
X-ALT-DESC;FMTTYPE=text/html: <p>11.-13.10.2021\, Cordoba</p><p><a href="ht
 tps://iclars2020cordoba.org/esp/">https://iclars2020cordoba.org/esp/</a></p
 ><p> </p><p>[av_button label='iCal-Export' link='./feed/eo-events' link_tar
 get='' size='small' position='center' label_display='' title_attr='' icon_s
 elect='yes' icon='ue85b' font='entypo-fontello' color='custom' custom_bg='#
 b5123e' custom_font='#ffffff' av_uid='' id='' custom_class='' admin_preview
 _bg='']</p>
CATEGORIES:Europäisches / Internationales Recht,Öffentliches Recht,Recht interdisziplinär
LOCATION:Ausland
GEO:0.000000;0.000000
ORGANIZER;CN="ViFa-Recht":MAILTO:vifa-recht@sbb.spk-berlin.de
URL;VALUE=URI:https://events.intrecht.de/termine/termin/verschoben-human-di
 gnity-law-and-religious-diversity-designing-the-future-of-inter-cultural-so
 cieties-sixth-international-academy-of-comparative-law-iclars-conference-ko
 nferenz/
END:VEVENT
BEGIN:VTIMEZONE
TZID:Europe/Berlin
BEGIN:DAYLIGHT
TZOFFSETFROM:+0100
TZOFFSETTO:+0200
DTSTART:20210328T010000
TZNAME:CEST
END:DAYLIGHT
END:VTIMEZONE
END:VCALENDAR
