BEGIN:VCALENDAR
VERSION:2.0
PRODID:-//Events | FID-Recht//NONSGML Events//EN
CALSCALE:GREGORIAN
X-ORIGINAL-URL:https://events.intrecht.de/termine/
X-WR-CALDESC:Events | FID-Recht - Events
BEGIN:VEVENT
UID:20201012T2346Z-1602546385.5874-EO-1764-1@172.16.200.141
STATUS:CONFIRMED
DTSTAMP:20260422T160629Z
CREATED:20201007T135838Z
LAST-MODIFIED:20210318T095911Z
DTSTART;VALUE=DATE:20210415
DTEND;VALUE=DATE:20210417
SUMMARY: ESIL Research Forum 2020: Solidarity – The Quest for Founding Utop
 ias of International Law (Online-Konferenz)
DESCRIPTION: 15.-16.4.2021\, Online https://esil-sedi.eu/research-forum-cfp
 -solidarity-the-quest-for-founding-utopias-of-international-law/ https://es
 clh.blogspot.com/2019/09/call-for-papers-esil-research-forum.html http://ww
 w.2021esilcatania.unict.it/  
X-ALT-DESC;FMTTYPE=text/html: <p>15.-16.4.2021\, Online</p><p><a href="http
 s://esil-sedi.eu/research-forum-cfp-solidarity-the-quest-for-founding-utopi
 as-of-international-law/">https://esil-sedi.eu/research-forum-cfp-solidarit
 y-the-quest-for-founding-utopias-of-international-law/</a></p><p><a href="h
 ttps://esclh.blogspot.com/2019/09/call-for-papers-esil-research-forum.html"
 >https://esclh.blogspot.com/2019/09/call-for-papers-esil-research-forum.htm
 l</a></p><p><a href="http://www.2021esilcatania.unict.it/">http://www.2021e
 silcatania.unict.it/</a></p><p> </p><p>[av_button label='iCal-Export' link=
 './feed/eo-events' link_target='' size='small' position='center' label_disp
 lay='' title_attr='' icon_select='yes' icon='ue85b' font='entypo-fontello' 
 color='custom' custom_bg='#b5123e' custom_font='#ffffff' av_uid='' id='' cu
 stom_class='' admin_preview_bg='']</p>
CATEGORIES:Europäisches / Internationales Recht
LOCATION:Ausland
GEO:0.000000;0.000000
ORGANIZER;CN="ViFa-Recht":MAILTO:vifa-recht@sbb.spk-berlin.de
URL;VALUE=URI:https://events.intrecht.de/termine/termin/verschoben-esil-res
 earch-forum-2020-solidarity-the-quest-for-founding-utopias-of-international
 -law-konferenz/
END:VEVENT
BEGIN:VTIMEZONE
TZID:Europe/Berlin
BEGIN:DAYLIGHT
TZOFFSETFROM:+0100
TZOFFSETTO:+0200
DTSTART:20210328T010000
TZNAME:CEST
END:DAYLIGHT
END:VTIMEZONE
END:VCALENDAR
