BEGIN:VCALENDAR
VERSION:2.0
PRODID:-//Events | FID-Recht//NONSGML Events//EN
CALSCALE:GREGORIAN
X-ORIGINAL-URL:https://events.intrecht.de/termine/
X-WR-CALDESC:Events | FID-Recht - Events
BEGIN:VEVENT
UID:20201012T2133Z-1602538434.8141-EO-1745-1@172.16.200.141
STATUS:CONFIRMED
DTSTAMP:20260422T161100Z
CREATED:20201007T135740Z
LAST-MODIFIED:20220223T085322Z
DTSTART;VALUE=DATE:20200423
DTEND;VALUE=DATE:20200425
SUMMARY: VERSCHOBEN: ESIL Research Forum 2020: Solidarity – The Quest for F
 ounding Utopias of International Law (Konferenz)
DESCRIPTION: VERSCHOBEN AUF 15.-16.4.2021\, Catania https://esil-sedi.eu/re
 search-forum-cfp-solidarity-the-quest-for-founding-utopias-of-international
 -law/ https://esclh.blogspot.com/2019/09/call-for-papers-esil-research-foru
 m.html    
X-ALT-DESC;FMTTYPE=text/html: <p>VERSCHOBEN AUF 15.-16.4.2021\, Catania</p>
 <p><a href="https://esil-sedi.eu/research-forum-cfp-solidarity-the-quest-fo
 r-founding-utopias-of-international-law/">https://esil-sedi.eu/research-for
 um-cfp-solidarity-the-quest-for-founding-utopias-of-international-law/</a><
 /p><p><a href="https://esclh.blogspot.com/2019/09/call-for-papers-esil-rese
 arch-forum.html">https://esclh.blogspot.com/2019/09/call-for-papers-esil-re
 search-forum.html</a></p><p> </p><p> </p><p>[av_button label='iCal-Export' 
 link='./feed/eo-events' link_target='' size='small' position='center' label
 _display='' title_attr='' icon_select='yes' icon='ue85b' font='entypo-fonte
 llo' color='custom' custom_bg='#b5123e' custom_font='#ffffff' av_uid='' id=
 '' custom_class='' admin_preview_bg='']</p>
CATEGORIES:Europäisches / Internationales Recht
LOCATION:Ausland
GEO:0.000000;0.000000
ORGANIZER;CN="ViFa-Recht":MAILTO:vifa-recht@sbb.spk-berlin.de
URL;VALUE=URI:https://events.intrecht.de/termine/termin/verschoben-conferen
 ce-esil-research-forum-2020-solidarity-the-quest-for-founding-utopias-of-in
 ternational-law-konferenz/
END:VEVENT
BEGIN:VTIMEZONE
TZID:Europe/Berlin
BEGIN:DAYLIGHT
TZOFFSETFROM:+0100
TZOFFSETTO:+0200
DTSTART:20200329T010000
TZNAME:CEST
END:DAYLIGHT
END:VTIMEZONE
END:VCALENDAR
