BEGIN:VCALENDAR
VERSION:2.0
PRODID:-//Events | FID-Recht//NONSGML Events//EN
CALSCALE:GREGORIAN
X-ORIGINAL-URL:https://events.intrecht.de/termine/
X-WR-CALDESC:Events | FID-Recht - Events
BEGIN:VEVENT
UID:20210302T1050Z-1614682246.2934-EO-3489-1@172.16.200.141
STATUS:CONFIRMED
DTSTAMP:20260421T222250Z
CREATED:20210219T135458Z
LAST-MODIFIED:20210219T135458Z
DTSTART;VALUE=DATE:20210304
DTEND;VALUE=DATE:20210306
SUMMARY: VERSCHOBEN: Citizenship\, Migration and Social Rights – Historical
  Experiences from the Eighteenth to the Twentieth Century (Workshop)
DESCRIPTION: 4.-5.3.2021\, Berlin – NEUER TERMIN steht noch nicht fest http
 s://rework.hu-berlin.de/news.html  
X-ALT-DESC;FMTTYPE=text/html: <p>4.-5.3.2021\, Berlin – NEUER TERMIN steht 
 noch nicht fest</p><p><a href="https://rework.hu-berlin.de/news.html">https
 ://rework.hu-berlin.de/news.html</a></p><p> </p><p>[av_button label='iCal-E
 xport' link='./feed/eo-events' link_target='' size='small' position='center
 ' label_display='' title_attr='' icon_select='yes' icon='ue85b' font='entyp
 o-fontello' color='custom' custom_bg='#b5123e' custom_font='#ffffff' av_uid
 ='' id='' custom_class='' admin_preview_bg='']</p>
CATEGORIES:Öffentliches Recht,Recht interdisziplinär
LOCATION:Online
GEO:0.000000;0.000000
ORGANIZER;CN="ViFa-Recht":MAILTO:vifa-recht@sbb.spk-berlin.de
URL;VALUE=URI:https://events.intrecht.de/termine/termin/verschoben-citizens
 hip-migration-and-social-rights-historical-experiences-from-the-eighteenth-
 to-the-twentieth-century-workshop/
END:VEVENT
BEGIN:VTIMEZONE
TZID:Europe/Berlin
BEGIN:STANDARD
TZOFFSETFROM:+0200
TZOFFSETTO:+0100
DTSTART:20201025T010000
TZNAME:CET
END:STANDARD
END:VTIMEZONE
END:VCALENDAR
