BEGIN:VCALENDAR
VERSION:2.0
PRODID:-//Events | FID-Recht//NONSGML Events//EN
CALSCALE:GREGORIAN
X-ORIGINAL-URL:https://events.intrecht.de/termine/
X-WR-CALDESC:Events | FID-Recht - Events
BEGIN:VEVENT
UID:20211130T1005Z-1638266703.1241-EO-4986-1@172.16.200.141
STATUS:CONFIRMED
DTSTAMP:20260422T175641Z
CREATED:20211126T225904Z
LAST-MODIFIED:20211126T225904Z
DTSTART;VALUE=DATE:20211103
DTEND;VALUE=DATE:20211104
SUMMARY: VERSCHOBEN: Behindert das (deutsche) Recht die zeithistorische For
 schung? (mit Jan Thiessen) (Vortrag)
DESCRIPTION: 3.11.2021\, Frankfurt/Main – NEUER TERMIN: Wird noch bekannt g
 egeben Max Planck Lecture in Legal History and Legal Theory | Max-Planck-In
 stitut für Rechtsgeschichte und Rechtstheorie (mpg.de)  
X-ALT-DESC;FMTTYPE=text/html: <p>3.11.2021\, Frankfurt/Main - NEUER TERMIN:
  Wird noch bekannt gegeben</p><p><a href="https://www.lhlt.mpg.de/2684712/e
 vents-21-11-03-max-planck-lecture.html">Max Planck Lecture in Legal History
  and Legal Theory | Max-Planck-Institut für Rechtsgeschichte und Rechtstheo
 rie (mpg.de)</a></p><p> </p><p>[av_button label='iCal-Export' link='./feed/
 eo-events' link_target='' size='small' position='center' label_display='' t
 itle_attr='' icon_select='yes' icon='ue85b' font='entypo-fontello' color='c
 ustom' custom_bg='#b5123e' custom_font='#ffffff' av_uid='' id='' custom_cla
 ss='' admin_preview_bg='']</p>
CATEGORIES:Recht interdisziplinär
LOCATION:Inland
GEO:0.000000;0.000000
ORGANIZER;CN="ViFa-Recht":MAILTO:vifa-recht@sbb.spk-berlin.de
URL;VALUE=URI:https://events.intrecht.de/termine/termin/verschoben-behinder
 t-das-deutsche-recht-die-zeithistorische-forschung-mit-jan-thiessen-vortrag
 /
END:VEVENT
BEGIN:VTIMEZONE
TZID:Europe/Berlin
BEGIN:STANDARD
TZOFFSETFROM:+0200
TZOFFSETTO:+0100
DTSTART:20211031T010000
TZNAME:CET
END:STANDARD
END:VTIMEZONE
END:VCALENDAR
