BEGIN:VCALENDAR
VERSION:2.0
PRODID:-//Events | FID-Recht//NONSGML Events//EN
CALSCALE:GREGORIAN
X-ORIGINAL-URL:https://events.intrecht.de/termine/
X-WR-CALDESC:Events | FID-Recht - Events
BEGIN:VEVENT
UID:20200619T0025Z-1592526312.4321-EO-798-1@172.16.200.141
STATUS:CONFIRMED
DTSTAMP:20260422T160930Z
CREATED:20200603T145501Z
LAST-MODIFIED:20200603T145501Z
DTSTART;VALUE=DATE:20200629
DTEND;VALUE=DATE:20200701
SUMMARY: VERSCHOBEN: 17th Development Dialogue Conference – Engaged Scholar
 ship for Development: Building Solidarity\, Peace and Social Justice (Konfe
 renz)
DESCRIPTION: VERSCHOBEN auf 5.-8.7.2021\, Den Haag https://www.iss.nl/en/ne
 ws/engaged-scholarship-development-building-solidarity-peace-and-social-jus
 tice  
X-ALT-DESC;FMTTYPE=text/html: <p>VERSCHOBEN auf <span style="display: inlin
 e !important\; float: none\; background-color: #ffffff\; color: #333333\; c
 ursor: text\; font-family: Georgia\,'Times New Roman'\,'Bitstream Charter'\
 ,Times\,serif\; font-size: 16px\; font-style: normal\; font-variant: normal
 \; font-weight: 400\; letter-spacing: normal\; orphans: 2\; text-align: lef
 t\; text-decoration: none\; text-indent: 0px\; text-transform: none\; -webk
 it-text-stroke-width: 0px\; white-space: normal\; word-spacing: 0px\;">5.-8
 .7.2021\,</span> Den Haag</p><p><a href="https://www.iss.nl/en/news/engaged
 -scholarship-development-building-solidarity-peace-and-social-justice">http
 s://www.iss.nl/en/news/engaged-scholarship-development-building-solidarity-
 peace-and-social-justice</a></p><p> </p><p>[av_button label='iCal-Export' l
 ink='./feed/eo-events' link_target='' size='small' position='center' label_
 display='' title_attr='' icon_select='yes' icon='ue85b' font='entypo-fontel
 lo' color='custom' custom_bg='#b5123e' custom_font='#ffffff' av_uid='' id='
 ' custom_class='' admin_preview_bg='']</p>
CATEGORIES:Europäisches / Internationales Recht,Recht interdisziplinär
LOCATION:Ausland
GEO:0.000000;0.000000
ORGANIZER;CN="ViFa-Recht":MAILTO:vifa-recht@sbb.spk-berlin.de
URL;VALUE=URI:https://events.intrecht.de/termine/termin/verschoben-17th-dev
 elopment-dialogue-conference-engaged-scholarship-for-development-building-s
 olidarity-peace-and-social-justice-konferenz/
END:VEVENT
BEGIN:VTIMEZONE
TZID:Europe/Berlin
BEGIN:DAYLIGHT
TZOFFSETFROM:+0100
TZOFFSETTO:+0200
DTSTART:20200329T010000
TZNAME:CEST
END:DAYLIGHT
END:VTIMEZONE
END:VCALENDAR
