BEGIN:VCALENDAR
VERSION:2.0
PRODID:-//Events | FID-Recht//NONSGML Events//EN
CALSCALE:GREGORIAN
X-ORIGINAL-URL:https://events.intrecht.de/termine/
X-WR-CALDESC:Events | FID-Recht - Events
BEGIN:VEVENT
UID:20200603T1418Z-1591193923.3362-EO-587-1@172.16.200.141
STATUS:CONFIRMED
DTSTAMP:20260422T192556Z
CREATED:20241127T081629Z
LAST-MODIFIED:20241127T081629Z
DTSTART;VALUE=DATE:20250120
DTEND;VALUE=DATE:20250121
SUMMARY: Versammlungsfreiheit und wehrhafte Demokratie (Hybrid Event)
DESCRIPTION: 20.1.2025 / Online und Berlin https://www.rewi.hu-berlin.de/de
 /lf/oe/lsi/diskussionsreihe-versammlungsfreiheit-und-wehrhafte-demokratie
X-ALT-DESC;FMTTYPE=text/html: <p>20.1.2025 / Online und Berlin</p><p><a hre
 f="https://www.rewi.hu-berlin.de/de/lf/oe/lsi/diskussionsreihe-versammlungs
 freiheit-und-wehrhafte-demokratie">https://www.rewi.hu-berlin.de/de/lf/oe/l
 si/diskussionsreihe-versammlungsfreiheit-und-wehrhafte-demokratie</a></p><p
 >[av_button label='iCal-Export' link='./feed/eo-events' link_target='' size
 ='small' position='center' label_display='' title_attr='' icon_select='yes'
  icon='ue85b' font='entypo-fontello' color='custom' custom_bg='#b5123e' cus
 tom_font='#ffffff' av_uid='' id='' custom_class='' admin_preview_bg='']</p>
CATEGORIES:Öffentliches Recht
LOCATION:Hybrid
GEO:0.000000;0.000000
ORGANIZER;CN="ViFa-Recht":MAILTO:vifa-recht@sbb.spk-berlin.de
URL;VALUE=URI:https://events.intrecht.de/termine/termin/versammlungsfreihei
 t-und-wehrhafte-demokratie-hybrid-event/
END:VEVENT
BEGIN:VTIMEZONE
TZID:Europe/Berlin
BEGIN:STANDARD
TZOFFSETFROM:+0200
TZOFFSETTO:+0100
DTSTART:20241027T010000
TZNAME:CET
END:STANDARD
END:VTIMEZONE
END:VCALENDAR
