BEGIN:VCALENDAR
VERSION:2.0
PRODID:-//Events | FID-Recht//NONSGML Events//EN
CALSCALE:GREGORIAN
X-ORIGINAL-URL:https://events.intrecht.de/termine/
X-WR-CALDESC:Events | FID-Recht - Events
BEGIN:VEVENT
UID:20220313T0131Z-1647135119.9301-EO-6281-1@172.16.200.141
STATUS:CONFIRMED
DTSTAMP:20260423T021542Z
CREATED:20220308T200554Z
LAST-MODIFIED:20220308T200554Z
DTSTART;VALUE=DATE:20220310
DTEND;VALUE=DATE:20220311
SUMMARY: Vers la paix en Algérie – Les négociations dans les archives diplo
 matiques françaises (Podiumsdiskussion)
DESCRIPTION: 10.3.2022\, Paris https://www.eventbrite.fr/e/billets-vers-la-
 paix-en-algerie-288444343797  
X-ALT-DESC;FMTTYPE=text/html: <p>10.3.2022\, Paris</p><p><a href="https://w
 ww.eventbrite.fr/e/billets-vers-la-paix-en-algerie-288444343797">https://ww
 w.eventbrite.fr/e/billets-vers-la-paix-en-algerie-288444343797</a></p><p> <
 /p><p>[av_button label='iCal-Export' link='./feed/eo-events' link_target=''
  size='small' position='center' label_display='' title_attr='' icon_select=
 'yes' icon='ue85b' font='entypo-fontello' color='custom' custom_bg='#b5123e
 ' custom_font='#ffffff' av_uid='' id='' custom_class='' admin_preview_bg=''
 ]</p>
CATEGORIES:Recht interdisziplinär
LOCATION:Ausland
GEO:0.000000;0.000000
ORGANIZER;CN="ViFa-Recht":MAILTO:vifa-recht@sbb.spk-berlin.de
URL;VALUE=URI:https://events.intrecht.de/termine/termin/vers-la-paix-en-alg
 erie-les-negociations-dans-les-archives-diplomatiques-francaises-podiumsdis
 kussion/
END:VEVENT
BEGIN:VTIMEZONE
TZID:Europe/Berlin
BEGIN:STANDARD
TZOFFSETFROM:+0200
TZOFFSETTO:+0100
DTSTART:20211031T010000
TZNAME:CET
END:STANDARD
END:VTIMEZONE
END:VCALENDAR
