BEGIN:VCALENDAR
VERSION:2.0
PRODID:-//Events | FID-Recht//NONSGML Events//EN
CALSCALE:GREGORIAN
X-ORIGINAL-URL:https://events.intrecht.de/termine/
X-WR-CALDESC:Events | FID-Recht - Events
BEGIN:VEVENT
UID:20201010T0529Z-1602307789.8047-EO-1570-1@172.16.200.141
STATUS:CONFIRMED
DTSTAMP:20260420T111725Z
CREATED:20201007T135102Z
LAST-MODIFIED:20201007T135252Z
DTSTART;VALUE=DATE:20201104
DTEND;VALUE=DATE:20201104
SUMMARY: Vermeintliche Gründe – Ethik und Ethiken im Nationalsozialismus (O
 nline-Vortrag)
DESCRIPTION: 4.11.2020\, Online https://www.fritz-bauer-institut.de/veranst
 altungen\, Live-Stream unter: https://www.youtube.com/watch?v=nL2nPAk8_Js&f
 eature=youtu.be  
X-ALT-DESC;FMTTYPE=text/html: <p>4.11.2020\, Online</p><p><a href="https://
 www.fritz-bauer-institut.de/veranstaltungen">https://www.fritz-bauer-instit
 ut.de/veranstaltungen</a>\, Live-Stream unter: <a href="https://www.youtube
 .com/watch?v=nL2nPAk8_Js&feature=youtu.be">https://www.youtube.com/watch?v=
 nL2nPAk8_Js&feature=youtu.be</a></p><p> </p><p>[av_button label='iCal-Expor
 t' link='./feed/eo-events' link_target='' size='small' position='center' la
 bel_display='' title_attr='' icon_select='yes' icon='ue85b' font='entypo-fo
 ntello' color='custom' custom_bg='#b5123e' custom_font='#ffffff' av_uid='' 
 id='' custom_class='' admin_preview_bg='']</p>
CATEGORIES:Recht interdisziplinär
LOCATION:Online
GEO:0.000000;0.000000
ORGANIZER;CN="ViFa-Recht":MAILTO:vifa-recht@sbb.spk-berlin.de
URL;VALUE=URI:https://events.intrecht.de/termine/termin/vermeintliche-gruen
 de-ethik-und-ethiken-im-nationalsozialismus-online-vortrag/
END:VEVENT
BEGIN:VTIMEZONE
TZID:Europe/Berlin
BEGIN:STANDARD
TZOFFSETFROM:+0200
TZOFFSETTO:+0100
DTSTART:20201025T010000
TZNAME:CET
END:STANDARD
END:VTIMEZONE
END:VCALENDAR
