BEGIN:VCALENDAR
VERSION:2.0
PRODID:-//Events | FID-Recht//NONSGML Events//EN
CALSCALE:GREGORIAN
X-ORIGINAL-URL:https://events.intrecht.de/termine/
X-WR-CALDESC:Events | FID-Recht - Events
BEGIN:VEVENT
UID:20201118T1322Z-1605705725.329-EO-2010-1@172.16.200.141
STATUS:CONFIRMED
DTSTAMP:20260420T112006Z
CREATED:20201031T122508Z
LAST-MODIFIED:20201031T122508Z
DTSTART;VALUE=DATE:20201113
DTEND;VALUE=DATE:20201113
SUMMARY: VERKÜRZT: Annual Meeting of the American Society for Legal History
  (ASLH) (Online-Tagung)
DESCRIPTION: 13.-14.11.2020\, Online https://aslh.net/conference/2020-annua
 l-meeting/    
X-ALT-DESC;FMTTYPE=text/html: <p>13.-14.11.2020\, Online</p><p><a href="htt
 ps://aslh.net/conference/2020-annual-meeting/">https://aslh.net/conference/
 2020-annual-meeting/</a></p><p><strong> </strong></p><p> </p><p>[av_button 
 label='iCal-Export' link='./feed/eo-events' link_target='' size='small' pos
 ition='center' label_display='' title_attr='' icon_select='yes' icon='ue85b
 ' font='entypo-fontello' color='custom' custom_bg='#b5123e' custom_font='#f
 fffff' av_uid='' id='' custom_class='' admin_preview_bg='']</p>
LOCATION:Online
GEO:0.000000;0.000000
ORGANIZER;CN="ViFa-Recht":MAILTO:vifa-recht@sbb.spk-berlin.de
URL;VALUE=URI:https://events.intrecht.de/termine/termin/verkuerzt-annual-me
 eting-of-the-american-society-for-legal-history-aslh-online-tagung/
END:VEVENT
BEGIN:VTIMEZONE
TZID:Europe/Berlin
BEGIN:STANDARD
TZOFFSETFROM:+0200
TZOFFSETTO:+0100
DTSTART:20201025T010000
TZNAME:CET
END:STANDARD
END:VTIMEZONE
END:VCALENDAR
