BEGIN:VCALENDAR
VERSION:2.0
PRODID:-//Events | FID-Recht//NONSGML Events//EN
CALSCALE:GREGORIAN
X-ORIGINAL-URL:https://events.intrecht.de/termine/
X-WR-CALDESC:Events | FID-Recht - Events
BEGIN:VEVENT
UID:20200603T1418Z-1591193923.3362-EO-587-1@172.16.200.141
STATUS:CONFIRMED
DTSTAMP:20260422T174247Z
CREATED:20240529T101501Z
LAST-MODIFIED:20240529T101501Z
DTSTART;VALUE=DATE:20241009
DTEND;VALUE=DATE:20241012
SUMMARY: Verfassungsrecht und Politik (83. Jahrestagung der Vereinigung der
  Deutschen Staatsrechtslehrer)
DESCRIPTION: 9.-11.10.2024 / Luzern https://www.unilu.ch/fakultaeten/rf/pro
 fessuren/mathis-klaus/veranstaltungen/83-jahrestagung-der-vereinigung-der-d
 eutschen-staatrechtslehrer-8446/
X-ALT-DESC;FMTTYPE=text/html: <p>9.-11.10.2024 / Luzern</p><p><a href="http
 s://www.unilu.ch/fakultaeten/rf/professuren/mathis-klaus/veranstaltungen/83
 -jahrestagung-der-vereinigung-der-deutschen-staatrechtslehrer-8446/">https:
 //www.unilu.ch/fakultaeten/rf/professuren/mathis-klaus/veranstaltungen/83-j
 ahrestagung-der-vereinigung-der-deutschen-staatrechtslehrer-8446/</a></p><p
 >[av_button label='iCal-Export' link='./feed/eo-events' link_target='' size
 ='small' position='center' label_display='' title_attr='' icon_select='yes'
  icon='ue85b' font='entypo-fontello' color='custom' custom_bg='#b5123e' cus
 tom_font='#ffffff' av_uid='' id='' custom_class='' admin_preview_bg='']</p>
CATEGORIES:Öffentliches Recht
LOCATION:Ausland
GEO:0.000000;0.000000
ORGANIZER;CN="ViFa-Recht":MAILTO:vifa-recht@sbb.spk-berlin.de
URL;VALUE=URI:https://events.intrecht.de/termine/termin/verfassungsrecht-un
 d-politik-83-jahrestagung-der-vereinigung-der-deutschen-staatsrechtslehrer/
END:VEVENT
BEGIN:VTIMEZONE
TZID:Europe/Berlin
BEGIN:DAYLIGHT
TZOFFSETFROM:+0100
TZOFFSETTO:+0200
DTSTART:20240331T010000
TZNAME:CEST
END:DAYLIGHT
END:VTIMEZONE
END:VCALENDAR
