BEGIN:VCALENDAR
VERSION:2.0
PRODID:-//Events | FID-Recht//NONSGML Events//EN
CALSCALE:GREGORIAN
X-ORIGINAL-URL:https://events.intrecht.de/termine/
X-WR-CALDESC:Events | FID-Recht - Events
BEGIN:VEVENT
UID:20210825T0536Z-1629869775.9479-EO-4374-1@172.16.200.141
STATUS:CONFIRMED
DTSTAMP:20260421T102728Z
CREATED:20210823T143412Z
LAST-MODIFIED:20210823T143412Z
DTSTART;VALUE=DATE:20210909
DTEND;VALUE=DATE:20210909
SUMMARY: Verfassungsrecht in Krisenzeiten. Hans Kelsen zwischen Prag und We
 imar (Konferenz)
DESCRIPTION: 9.9.2021\, Wien Events Detail | Jüdisches Museum Wien (jmw.at)
   
X-ALT-DESC;FMTTYPE=text/html: <p>9.9.2021\, Wien</p><p><a href="https://www
 .jmw.at/jart/prj3/jmw/main.jart?rel=de&reserve-mode=active&content-id=16105
 11896595&j-cc-id=1627745206896&j-cc-node=veranstaltung&j-cc-name=hybrid-con
 tent">Events Detail | Jüdisches Museum Wien (jmw.at)</a></p><p> </p><p>[av_
 button label='iCal-Export' link='./feed/eo-events' link_target='' size='sma
 ll' position='center' label_display='' title_attr='' icon_select='yes' icon
 ='ue85b' font='entypo-fontello' color='custom' custom_bg='#b5123e' custom_f
 ont='#ffffff' av_uid='' id='' custom_class='' admin_preview_bg='']</p>
CATEGORIES:Recht interdisziplinär
LOCATION:Ausland
GEO:0.000000;0.000000
ORGANIZER;CN="ViFa-Recht":MAILTO:vifa-recht@sbb.spk-berlin.de
URL;VALUE=URI:https://events.intrecht.de/termine/termin/verfassungsrecht-in
 -krisenzeiten-hans-kelsen-zwischen-prag-und-weimar-konferenz/
END:VEVENT
BEGIN:VTIMEZONE
TZID:Europe/Berlin
BEGIN:DAYLIGHT
TZOFFSETFROM:+0100
TZOFFSETTO:+0200
DTSTART:20210328T010000
TZNAME:CEST
END:DAYLIGHT
END:VTIMEZONE
END:VCALENDAR
