BEGIN:VCALENDAR
VERSION:2.0
PRODID:-//Events | FID-Recht//NONSGML Events//EN
CALSCALE:GREGORIAN
X-ORIGINAL-URL:https://events.intrecht.de/termine/
X-WR-CALDESC:Events | FID-Recht - Events
BEGIN:VEVENT
UID:20200603T1418Z-1591193923.3362-EO-587-1@172.16.200.141
STATUS:CONFIRMED
DTSTAMP:20260422T071551Z
CREATED:20240122T102106Z
LAST-MODIFIED:20240122T102106Z
DTSTART;VALUE=DATE:20240228
DTEND;VALUE=DATE:20240229
SUMMARY: Verfassungsgerichte als Richtungsentscheider (Öffentliche Keynote 
 Lecture)
DESCRIPTION: 28.2.2024 / München https://badw.de/fileadmin/events/2024/887/
 Flyer_Grimm_web.pdf
X-ALT-DESC;FMTTYPE=text/html: <p>28.2.2024 / München</p><p><a href="https:/
 /badw.de/fileadmin/events/2024/887/Flyer_Grimm_web.pdf">https://badw.de/fil
 eadmin/events/2024/887/Flyer_Grimm_web.pdf</a></p><p>[av_button label='iCal
 -Export' link='./feed/eo-events' link_target='' size='small' position='cent
 er' label_display='' title_attr='' icon_select='yes' icon='ue85b' font='ent
 ypo-fontello' color='custom' custom_bg='#b5123e' custom_font='#ffffff' av_u
 id='' id='' custom_class='' admin_preview_bg='']</p>
CATEGORIES:Öffentliches Recht
LOCATION:Inland
GEO:0.000000;0.000000
ORGANIZER;CN="ViFa-Recht":MAILTO:vifa-recht@sbb.spk-berlin.de
URL;VALUE=URI:https://events.intrecht.de/termine/termin/verfassungsgerichte
 -als-richtungsentscheider-oeffentliche-keynote-lecture/
END:VEVENT
BEGIN:VTIMEZONE
TZID:Europe/Berlin
BEGIN:STANDARD
TZOFFSETFROM:+0200
TZOFFSETTO:+0100
DTSTART:20231029T010000
TZNAME:CET
END:STANDARD
END:VTIMEZONE
END:VCALENDAR
