BEGIN:VCALENDAR
VERSION:2.0
PRODID:-//Events | FID-Recht//NONSGML Events//EN
CALSCALE:GREGORIAN
X-ORIGINAL-URL:https://events.intrecht.de/termine/
X-WR-CALDESC:Events | FID-Recht - Events
BEGIN:VEVENT
UID:20200603T1418Z-1591193923.3362-EO-587-1@172.16.200.141
STATUS:CONFIRMED
DTSTAMP:20260423T020938Z
CREATED:20240130T094839Z
LAST-MODIFIED:20240130T094839Z
DTSTART;VALUE=DATE:20240209
DTEND;VALUE=DATE:20240211
SUMMARY: Verfassung der Europäischen Union: Aktuelle Herausforderungen und 
 Potentiale (Tagung Arbeitskreis Unionsrecht)
DESCRIPTION: 9.-10.2.2024 / Hamburg https://www.hsu-hh.de/verwaltungsrecht/
 tagung-arbeitskreis-unionsrecht-verfassung-der-europaeischen-union-aktuelle
 -herausforderungen-und-potentiale
X-ALT-DESC;FMTTYPE=text/html: <p>9.-10.2.2024 / Hamburg</p><p><a href="http
 s://www.hsu-hh.de/verwaltungsrecht/tagung-arbeitskreis-unionsrecht-verfassu
 ng-der-europaeischen-union-aktuelle-herausforderungen-und-potentiale">https
 ://www.hsu-hh.de/verwaltungsrecht/tagung-arbeitskreis-unionsrecht-verfassun
 g-der-europaeischen-union-aktuelle-herausforderungen-und-potentiale</a></p>
 <p>[av_button label='iCal-Export' link='./feed/eo-events' link_target='' si
 ze='small' position='center' label_display='' title_attr='' icon_select='ye
 s' icon='ue85b' font='entypo-fontello' color='custom' custom_bg='#b5123e' c
 ustom_font='#ffffff' av_uid='' id='' custom_class='' admin_preview_bg='']</
 p>
CATEGORIES:Europäisches / Internationales Recht
LOCATION:Inland
GEO:0.000000;0.000000
ORGANIZER;CN="ViFa-Recht":MAILTO:vifa-recht@sbb.spk-berlin.de
URL;VALUE=URI:https://events.intrecht.de/termine/termin/verfassung-der-euro
 paeischen-union-aktuelle-herausforderungen-und-potentiale-tagung-arbeitskre
 is-unionsrecht/
END:VEVENT
BEGIN:VTIMEZONE
TZID:Europe/Berlin
BEGIN:STANDARD
TZOFFSETFROM:+0200
TZOFFSETTO:+0100
DTSTART:20231029T010000
TZNAME:CET
END:STANDARD
END:VTIMEZONE
END:VCALENDAR
