BEGIN:VCALENDAR
VERSION:2.0
PRODID:-//Events | FID-Recht//NONSGML Events//EN
CALSCALE:GREGORIAN
X-ORIGINAL-URL:https://events.intrecht.de/termine/
X-WR-CALDESC:Events | FID-Recht - Events
BEGIN:VEVENT
UID:20200603T1418Z-1591193923.3362-EO-587-1@172.16.200.141
STATUS:CONFIRMED
DTSTAMP:20260422T110556Z
CREATED:20240209T130308Z
LAST-MODIFIED:20240209T130308Z
DTSTART;VALUE=DATE:20240214
DTEND;VALUE=DATE:20240215
SUMMARY: Verfahren im Fall Südafrika v. Israel (Webinar der deutschen Sekti
 on von ICON•S)
DESCRIPTION: 14.2.2024 / Online https://sites.google.com/view/icon-s-german
 y/aktuelles-current-events?authuser=0
X-ALT-DESC;FMTTYPE=text/html: <p>14.2.2024 / Online</p><p><a href="https://
 sites.google.com/view/icon-s-germany/aktuelles-current-events?authuser=0">h
 ttps://sites.google.com/view/icon-s-germany/aktuelles-current-events?authus
 er=0</a></p><p>[av_button label='iCal-Export' link='./feed/eo-events' link_
 target='' size='small' position='center' label_display='' title_attr='' ico
 n_select='yes' icon='ue85b' font='entypo-fontello' color='custom' custom_bg
 ='#b5123e' custom_font='#ffffff' av_uid='' id='' custom_class='' admin_prev
 iew_bg='']</p>
CATEGORIES:Europäisches / Internationales Recht
LOCATION:Online
GEO:0.000000;0.000000
ORGANIZER;CN="ViFa-Recht":MAILTO:vifa-recht@sbb.spk-berlin.de
URL;VALUE=URI:https://events.intrecht.de/termine/termin/verfahren-im-fall-s
 uedafrika-v-israel-webinar-der-deutschen-sektion-von-icons/
END:VEVENT
BEGIN:VTIMEZONE
TZID:Europe/Berlin
BEGIN:STANDARD
TZOFFSETFROM:+0200
TZOFFSETTO:+0100
DTSTART:20231029T010000
TZNAME:CET
END:STANDARD
END:VTIMEZONE
END:VCALENDAR
