BEGIN:VCALENDAR
VERSION:2.0
PRODID:-//Events | FID-Recht//NONSGML Events//EN
CALSCALE:GREGORIAN
X-ORIGINAL-URL:https://events.intrecht.de/termine/
X-WR-CALDESC:Events | FID-Recht - Events
BEGIN:VEVENT
UID:20210917T2233Z-1631918013.4471-EO-4705-1@172.16.200.141
STATUS:CONFIRMED
DTSTAMP:20260422T230417Z
CREATED:20210914T173634Z
LAST-MODIFIED:20211216T112632Z
DTSTART;VALUE=DATE:20210926
DTEND;VALUE=DATE:20210927
SUMMARY: Verantwortung und Recht (62. Junge Tagung Öffentliches Recht) (CfP
 )
DESCRIPTION: 15.-18.2.2022\, Zürich – verlegt auf Online (Frist für Einreic
 hungen: 26.9.2021) UZH – Junge Tagung Öffentliches Recht (JTÖR) 2022 – Tagu
 ngsort Zürich  
X-ALT-DESC;FMTTYPE=text/html: <p>15.-18.2.2022\, Zürich - verlegt auf Onlin
 e (Frist für Einreichungen: 26.9.2021)</p><p><a href="https://www.ius.uzh.c
 h/de/research/career-development/jtoer/Tagungsort.html">UZH - Junge Tagung 
 Öffentliches Recht (JTÖR) 2022 - Tagungsort Zürich</a></p><p> </p><p>[av_bu
 tton label='iCal-Export' link='./feed/eo-events' link_target='' size='small
 ' position='center' label_display='' title_attr='' icon_select='yes' icon='
 ue85b' font='entypo-fontello' color='custom' custom_bg='#b5123e' custom_fon
 t='#ffffff' av_uid='' id='' custom_class='' admin_preview_bg='']</p>
CATEGORIES:Öffentliches Recht
LOCATION:Online
GEO:0.000000;0.000000
ORGANIZER;CN="ViFa-Recht":MAILTO:vifa-recht@sbb.spk-berlin.de
URL;VALUE=URI:https://events.intrecht.de/termine/termin/verantwortung-und-r
 echt-62-junge-tagung-oeffentliches-recht-cfp/
END:VEVENT
BEGIN:VTIMEZONE
TZID:Europe/Berlin
BEGIN:DAYLIGHT
TZOFFSETFROM:+0100
TZOFFSETTO:+0200
DTSTART:20210328T010000
TZNAME:CEST
END:DAYLIGHT
END:VTIMEZONE
END:VCALENDAR
